{ "currentVersion": 11.3, "cimVersion": "3.3.0", "serviceDescription": "
Virginia Coastal Resilience Master Plan (CRMP) Graduated Coastal Flood Extents for the Near Future Moderate planning scenario. <\/span><\/p> Coastal flooding occurs when tidal waters exceed the typical shoreline and inundate upland areas, including both tidal inundation and storm surge. This dataset depicts the extent of potential coastal flooding under various flood conditions. 10-foot resolution raster data is classified and colored to represent the extent of the most frequent (least-rare) floods that may impact a given area. The included flood conditions range from daily high tides to rare storm surge events, with probabilities derived from statistical analysis of historic events. The storm surge events are described in terms of their relative annual exceedance probability (AEP), which represents the percentage chance that a given flood magnitude will occur in a given year. The specific flood conditions included are: Mean Low Water, Mean High Water, 50% AEP, 20% AEP, 10% AEP, 4% AEP, 2% AEP, 1% AEP, and 0.2% AEP. <\/span><\/p> In the CRMP, planning scenarios are defined by their time horizon and projection range, representing future conditions and the uncertainty inherent in climate forecasts that project them. This dataset contains information for the Near Future time horizon, meaning it is suitable for planning through the next 35 years and is based on sea level rise data most relevant to the period between 2030 and 2060. Within this time horizon, this dataset shows a Moderate climate change projection, indicating a \u201cbest estimate\u201d for future conditions, suitable for decisions where a higher level of risk is acceptable.<\/span><\/p> The CRMP\u2019s coastal flood modeling considered changing relative sea level rise projections based on the NOAA 2017 Intermediate High Curve. Complete documentation of the source data and production process can be found in the VA CRMP Phase I Appendix C \u2013 Coastal Flood Hazard Framework Report (Dewberry, 2022).<\/span><\/p> Related resources include the VA CRMP Master Plan and reports (https://www.dcr.virginia.gov/crmp/) and Coastal Resilience Web Explorer (https://www.dcr.virginia.gov/crmp/cr-web-explorer).<\/span><\/p> For questions or additional information, please contact Flood.Resilience@dcr.virginia.gov.<\/span><\/p><\/div><\/div><\/div>",
"mapName": "Coastal_NearFutureMod",
"description": "",
"copyrightText": "This dataset was created by the Virginia Department of Conservation and Recreation (DCR) in 2022. DCR will review and make appropriate adjustments to this data with each update of the CRMP.",
"supportsDynamicLayers": true,
"layers": [
{
"id": 0,
"name": "Coastal_NearFutureMod",
"parentLayerId": -1,
"defaultVisibility": true,
"subLayerIds": null,
"minScale": 0,
"maxScale": 0,
"type": "Raster Layer",
"supportsDynamicLegends": true
}
],
"tables": [],
"spatialReference": {
"wkid": 102100,
"latestWkid": 3857,
"xyTolerance": 0.001,
"zTolerance": 0.001,
"mTolerance": 0.001,
"falseX": -20037700,
"falseY": -30241100,
"xyUnits": 10000,
"falseZ": -100000,
"zUnits": 10000,
"falseM": -100000,
"mUnits": 10000
},
"singleFusedMapCache": true,
"tileInfo": {
"rows": 256,
"cols": 256,
"dpi": 96,
"format": "Mixed",
"compressionQuality": 75,
"origin": {
"x": -2.0037508342787E7,
"y": 2.0037508342787E7
},
"spatialReference": {
"wkid": 102100,
"latestWkid": 3857,
"xyTolerance": 0.001,
"zTolerance": 0.001,
"mTolerance": 0.001,
"falseX": -20037700,
"falseY": -30241100,
"xyUnits": 1.4892314192838538E8,
"falseZ": -100000,
"zUnits": 10000,
"falseM": -100000,
"mUnits": 10000
},
"lods": [
{
"level": 0,
"resolution": 156543.033928,
"scale": 5.91657527591555E8
},
{
"level": 1,
"resolution": 78271.5169639999,
"scale": 2.95828763795777E8
},
{
"level": 2,
"resolution": 39135.7584820001,
"scale": 1.47914381897889E8
},
{
"level": 3,
"resolution": 19567.8792409999,
"scale": 7.3957190948944E7
},
{
"level": 4,
"resolution": 9783.93962049996,
"scale": 3.6978595474472E7
},
{
"level": 5,
"resolution": 4891.96981024998,
"scale": 1.8489297737236E7
},
{
"level": 6,
"resolution": 2445.98490512499,
"scale": 9244648.868618
},
{
"level": 7,
"resolution": 1222.99245256249,
"scale": 4622324.434309
},
{
"level": 8,
"resolution": 611.49622628138,
"scale": 2311162.217155
},
{
"level": 9,
"resolution": 305.748113140558,
"scale": 1155581.108577
},
{
"level": 10,
"resolution": 152.874056570411,
"scale": 577790.554289
},
{
"level": 11,
"resolution": 76.4370282850732,
"scale": 288895.277144
},
{
"level": 12,
"resolution": 38.2185141425366,
"scale": 144447.638572
},
{
"level": 13,
"resolution": 19.1092570712683,
"scale": 72223.819286
},
{
"level": 14,
"resolution": 9.55462853563415,
"scale": 36111.909643
},
{
"level": 15,
"resolution": 4.77731426794937,
"scale": 18055.954822
},
{
"level": 16,
"resolution": 2.38865713397468,
"scale": 9027.977411
},
{
"level": 17,
"resolution": 1.19432856685505,
"scale": 4513.988705
},
{
"level": 18,
"resolution": 0.597164283559817,
"scale": 2256.994353
},
{
"level": 19,
"resolution": 0.298582141647617,
"scale": 1128.497176
},
{
"level": 20,
"resolution": 0.14929107082380833,
"scale": 564.248588
},
{
"level": 21,
"resolution": 0.07464553541190416,
"scale": 282.124294
},
{
"level": 22,
"resolution": 0.03732276770595208,
"scale": 141.062147
},
{
"level": 23,
"resolution": 0.01866138385297604,
"scale": 70.5310735
}
]
},
"storageInfo": {
"storageFormat": "esriMapCacheStorageModeCompactV2",
"packetSize": 128
},
"initialExtent": {
"xmin": -8875500.743227104,
"ymin": 4345106.8449807195,
"xmax": -8187407.978177572,
"ymax": 4797799.4535659375,
"spatialReference": {
"cs": "pcs",
"wkid": 102100
}
},
"fullExtent": {
"xmin": -8705215.0922238,
"ymin": 4365683.781734593,
"xmax": -8357693.629180875,
"ymax": 4777222.516812064,
"spatialReference": {
"cs": "pcs",
"wkid": 102100
}
},
"datesInUnknownTimezone": false,
"minScale": 5.91657527591555E8,
"maxScale": 4513.988705,
"units": "esriMeters",
"supportedImageFormatTypes": "PNG32,PNG24,PNG,JPG,DIB,TIFF,EMF,PS,PDF,GIF,SVG,SVGZ,BMP",
"documentInfo": {
"Title": "Coastal_2040",
"Author": "",
"Comments": "",
"Subject": "",
"Category": "",
"Version": "3.3.0",
"AntialiasingMode": "Fast",
"TextAntialiasingMode": "Force",
"Keywords": "Flooding,Flood Hazard,Coastal Resilience,Virginia,DCR,CRMP,Climate Change,Future Conditions,Coastal,Graduated Floodplain,Sea Level Rise,SLR,Storm Surge,Near Future Moderate"
},
"supportsQueryDomains": true,
"capabilities": "Map,Query,Data",
"supportedQueryFormats": "JSON, geoJSON, PBF",
"exportTilesAllowed": false,
"referenceScale": 0.0,
"supportsDatumTransformation": true,
"archivingInfo": {"supportsHistoricMoment": false},
"supportsClipping": true,
"supportsSpatialFilter": true,
"supportsTimeRelation": true,
"supportsQueryDataElements": true,
"mapUnits": {"uwkid": 9001},
"maxRecordCount": 2000,
"maxImageHeight": 4096,
"maxImageWidth": 4096,
"supportedExtensions": "",
"resampling": false
}