{ "currentVersion": 11.3, "cimVersion": "3.3.0", "serviceDescription": "
Virginia Coastal Resilience Master Plan (CRMP) Combined Flood Hazard Flood Dominance for 1% Annual Exceedance Probability (AEP) event in the Far Future Moderate planning scenario.<\/SPAN><\/P> This dataset depicts the geographic area likely to be inundated by a major (1% AEP) flood event resulting from any of the three independent flood sources: coastal, rainfall-driven, and riverine. Areas within this 1% AEP extent have a 1-in-100 chance, or greater, of experiencing flooding in any given year, based on statistical analysis and modeling of historical events. Data is classified and colored to represent the flood hazard source that has the greatest depth in a 1% AEP flood event for each 10-foot cell in the CRMP study area. <\/SPAN><\/P> In the CRMP, planning scenarios are defined by their time horizon and projection range, representing future conditions and the uncertainty inherent in climate forecasts that project them. This dataset contains information for the Far Future time horizon, meaning it is suitable for planning through the next 75 years and is based on climate data most relevant to the period between 2060 and 2100. Within this time horizon, this dataset shows a Moderate climate change projection, indicating a \u201cbest estimate\u201d for future conditions, suitable for decisions where a higher level of risk is acceptable.<\/SPAN><\/P> This combined flood hazard information draws leverages data from multiple sources, including CRMP 2022 coastal flood modeling, 2024 rainfall-driven flood modeling, and riverine flood data from the Federal Emergency Management Agency (FEMA). Complete documentation of the source data and production process for coastal flooding can be found in the VA CRMP Phase I Appendix C \u2013 Coastal Flood Hazard Framework Report (Dewberry, 2022). For rainfall-driven flooding, the documentation is provided in the Pluvial Modeling Final Report (Dewberry, 2024, Addendum A).<\/SPAN><\/P> Related resources include the VA CRMP Master Plan report (https://www.dcr.virginia.gov/crmp/) and Coastal Resilience Web Explorer (https://www.dcr.virginia.gov/crmp/cr-web-explorer). <\/SPAN><\/P> For questions or additional information, please contact Flood.Resilience@dcr.virginia.gov.<\/SPAN><\/P><\/DIV><\/DIV>",
"mapName": "Combined_Dominance_FarFutureMod",
"description": "The \"Combined Dominance\u201d raster shows which flood hazard source has the greatest depth in a major (1% AEP) flood event for each 10-ft cell in the CRMP study area.",
"copyrightText": "This dataset was created by the Virginia Department of Conservation and Recreation (DCR) in 2024. DCR will review and make appropriate adjustments to this data with each update of the CRMP.",
"supportsDynamicLayers": true,
"layers": [
{
"id": 0,
"name": "Combined_Dominance_FarFutureMod",
"parentLayerId": -1,
"defaultVisibility": true,
"subLayerIds": null,
"minScale": 0,
"maxScale": 0,
"type": "Raster Layer",
"supportsDynamicLegends": true
}
],
"tables": [],
"spatialReference": {
"wkid": 102100,
"latestWkid": 3857,
"xyTolerance": 0.001,
"zTolerance": 0.001,
"mTolerance": 0.001,
"falseX": -20037700,
"falseY": -30241100,
"xyUnits": 10000,
"falseZ": -100000,
"zUnits": 10000,
"falseM": -100000,
"mUnits": 10000
},
"singleFusedMapCache": true,
"tileInfo": {
"rows": 256,
"cols": 256,
"dpi": 96,
"format": "Mixed",
"compressionQuality": 75,
"origin": {
"x": -2.0037508342787E7,
"y": 2.0037508342787E7
},
"spatialReference": {
"wkid": 102100,
"latestWkid": 3857,
"xyTolerance": 0.001,
"zTolerance": 0.001,
"mTolerance": 0.001,
"falseX": -20037700,
"falseY": -30241100,
"xyUnits": 1.4892314192838538E8,
"falseZ": -100000,
"zUnits": 10000,
"falseM": -100000,
"mUnits": 10000
},
"lods": [
{
"level": 0,
"resolution": 156543.033928,
"scale": 5.91657527591555E8
},
{
"level": 1,
"resolution": 78271.5169639999,
"scale": 2.95828763795777E8
},
{
"level": 2,
"resolution": 39135.7584820001,
"scale": 1.47914381897889E8
},
{
"level": 3,
"resolution": 19567.8792409999,
"scale": 7.3957190948944E7
},
{
"level": 4,
"resolution": 9783.93962049996,
"scale": 3.6978595474472E7
},
{
"level": 5,
"resolution": 4891.96981024998,
"scale": 1.8489297737236E7
},
{
"level": 6,
"resolution": 2445.98490512499,
"scale": 9244648.868618
},
{
"level": 7,
"resolution": 1222.99245256249,
"scale": 4622324.434309
},
{
"level": 8,
"resolution": 611.49622628138,
"scale": 2311162.217155
},
{
"level": 9,
"resolution": 305.748113140558,
"scale": 1155581.108577
},
{
"level": 10,
"resolution": 152.874056570411,
"scale": 577790.554289
},
{
"level": 11,
"resolution": 76.4370282850732,
"scale": 288895.277144
},
{
"level": 12,
"resolution": 38.2185141425366,
"scale": 144447.638572
},
{
"level": 13,
"resolution": 19.1092570712683,
"scale": 72223.819286
},
{
"level": 14,
"resolution": 9.55462853563415,
"scale": 36111.909643
},
{
"level": 15,
"resolution": 4.77731426794937,
"scale": 18055.954822
},
{
"level": 16,
"resolution": 2.38865713397468,
"scale": 9027.977411
},
{
"level": 17,
"resolution": 1.19432856685505,
"scale": 4513.988705
},
{
"level": 18,
"resolution": 0.597164283559817,
"scale": 2256.994353
},
{
"level": 19,
"resolution": 0.298582141647617,
"scale": 1128.497176
},
{
"level": 20,
"resolution": 0.14929107082380833,
"scale": 564.248588
},
{
"level": 21,
"resolution": 0.07464553541190416,
"scale": 282.124294
},
{
"level": 22,
"resolution": 0.03732276770595208,
"scale": 141.062147
},
{
"level": 23,
"resolution": 0.01866138385297604,
"scale": 70.5310735
}
]
},
"storageInfo": {
"storageFormat": "esriMapCacheStorageModeCompactV2",
"packetSize": 128
},
"initialExtent": {
"xmin": -8737911.990123862,
"ymin": 4409972.670200087,
"xmax": -8389310.871439317,
"ymax": 4638773.791660031,
"spatialReference": {
"cs": "pcs",
"wkid": 102100
}
},
"fullExtent": {
"xmin": -8705215.372103015,
"ymin": 4365686.386794588,
"xmax": -8357694.295303815,
"ymax": 4777223.645748689,
"spatialReference": {
"cs": "pcs",
"wkid": 102100
}
},
"datesInUnknownTimezone": false,
"minScale": 4622324.434309,
"maxScale": 72223.819286,
"units": "esriMeters",
"supportedImageFormatTypes": "PNG32,PNG24,PNG,JPG,DIB,TIFF,EMF,PS,PDF,GIF,SVG,SVGZ,BMP",
"documentInfo": {
"Title": "Map",
"Author": "",
"Comments": "The \"Combined Dominance\u201d raster shows which flood hazard source has the greatest depth in a major (1% AEP) flood event for each 10-ft cell in the CRMP study area.",
"Subject": "The \"Combined Dominance\u201d raster shows which flood hazard source has the greatest depth in a major (1% AEP) flood event for each 10-ft cell in the CRMP study area.",
"Category": "",
"Version": "3.3.0",
"AntialiasingMode": "Fast",
"TextAntialiasingMode": "Force",
"Keywords": "Flooding,Flood Hazard,Coastal Resilience,Virginia,DCR,CRMP,Climate Change,Future Conditions,Combined Hazard,Flood Hazard Dominance,1% AEP,Far Future Moderate"
},
"supportsQueryDomains": true,
"capabilities": "Query,Map,Data",
"supportedQueryFormats": "JSON, geoJSON, PBF",
"exportTilesAllowed": false,
"referenceScale": 0.0,
"datumTransformations": [
{
"geoTransforms": [
{
"wkid": 108190,
"latestWkid": 108190,
"transformForward": true,
"name": "WGS_1984_(ITRF00)_To_NAD_1983"
}
]
},
{
"geoTransforms": [
{
"wkid": 108190,
"latestWkid": 108190,
"transformForward": false,
"name": "WGS_1984_(ITRF00)_To_NAD_1983"
}
]
}
],
"supportsDatumTransformation": true,
"archivingInfo": {"supportsHistoricMoment": false},
"supportsClipping": true,
"supportsSpatialFilter": true,
"supportsTimeRelation": true,
"supportsQueryDataElements": true,
"mapUnits": {"uwkid": 9001},
"maxRecordCount": 2000,
"maxImageHeight": 4096,
"maxImageWidth": 4096,
"supportedExtensions": ""
}