{ "currentVersion": 11.3, "serviceDescription": "
Virginia Coastal Resilience Master Plan (CRMP) Combined Flood Hazard Flood Presence for 1% Annual Exceedance Probability (AEP) event in the Baseline planning scenario.<\/span><\/p> This dataset depicts the geographic area likely to be inundated by a major (1% AEP) flood event resulting from any of the three independent flood sources: coastal, rainfall-driven, and riverine. Areas within this 1% AEP extent have a 1-in-100 chance, or greater, of experiencing flooding in any given year, based on statistical analysis and modeling of historical events. The raster data has a 10-foot resolution scale. <\/span><\/p> This dataset contains information for the baseline planning scenario, meaning it is based on historical, observed data and does not incorporate anticipated future conditions. This data is suitable for understanding current conditions (2020) and can serve as a basis for comparison with future conditions.<\/span><\/p> This combined flood hazard information draws leverages data from multiple sources, including CRMP 2022 coastal flood modeling, 2024 rainfall-driven flood modeling, and riverine flood data from the Federal Emergency Management Agency (FEMA). Complete documentation of the source data and production process for coastal flooding can be found in the VA CRMP Phase I Appendix C \u2013 Coastal Flood Hazard Framework Report (Dewberry, 2022). For rainfall-driven flooding, the documentation is provided in the Pluvial Modeling Final Report (Dewberry, 2024, Addendum A).<\/span><\/p> Related resources include the VA CRMP Master Plan report (https://www.dcr.virginia.gov/crmp/) and Coastal Resilience Web Explorer (https://www.dcr.virginia.gov/crmp/cr-web-explorer). <\/span><\/p> For questions or additional information, please contact Flood.Resilience@dcr.virginia.gov.<\/span><\/p><\/div><\/div>",
"name": "CRMP2_FloodHazard/Combined_Extent_Baseline",
"description": " Virginia Coastal Resilience Master Plan (CRMP) Combined Flood Hazard Flood Presence for 1% Annual Exceedance Probability (AEP) event in the Baseline planning scenario.<\/span><\/p> This dataset depicts the geographic area likely to be inundated by a major (1% AEP) flood event resulting from any of the three independent flood sources: coastal, rainfall-driven, and riverine. Areas within this 1% AEP extent have a 1-in-100 chance, or greater, of experiencing flooding in any given year, based on statistical analysis and modeling of historical events. The raster data has a 10-foot resolution scale. <\/span><\/p> This dataset contains information for the baseline planning scenario, meaning it is based on historical, observed data and does not incorporate anticipated future conditions. This data is suitable for understanding current conditions (2020) and can serve as a basis for comparison with future conditions.<\/span><\/p> This combined flood hazard information draws leverages data from multiple sources, including CRMP 2022 coastal flood modeling, 2024 rainfall-driven flood modeling, and riverine flood data from the Federal Emergency Management Agency (FEMA). Complete documentation of the source data and production process for coastal flooding can be found in the VA CRMP Phase I Appendix C \u2013 Coastal Flood Hazard Framework Report (Dewberry, 2022). For rainfall-driven flooding, the documentation is provided in the Pluvial Modeling Final Report (Dewberry, 2024, Addendum A).<\/span><\/p> Related resources include the VA CRMP Master Plan report (https://www.dcr.virginia.gov/crmp/) and Coastal Resilience Web Explorer (https://www.dcr.virginia.gov/crmp/cr-web-explorer). <\/span><\/p> For questions or additional information, please contact Flood.Resilience@dcr.virginia.gov.<\/span><\/p><\/div><\/div>",
"extent": {
"xmin": 11571000,
"ymin": 3348000,
"xmax": 12451000,
"ymax": 4393000,
"spatialReference": {
"wkid": 102747,
"latestWkid": 2284
}
},
"initialExtent": {
"xmin": 11571000,
"ymin": 3348000,
"xmax": 12451000,
"ymax": 4393000,
"spatialReference": {
"wkid": 102747,
"latestWkid": 2284
}
},
"fullExtent": {
"xmin": 11571000,
"ymin": 3348000,
"xmax": 12451000,
"ymax": 4393000,
"spatialReference": {
"wkid": 102747,
"latestWkid": 2284
}
},
"sortableFields": "",
"bandCount": 3,
"pixelType": "U8",
"minValues": [],
"maxValues": [],
"meanValues": [],
"stdvValues": [],
"hasMultidimensions": false,
"pixelSizeX": 10,
"pixelSizeY": 10,
"meanPixelSize": 3.0480060960121924,
"datasetFormat": "TIFF",
"uncompressedSize": 27588000000,
"blockWidth": 512,
"blockHeight": 512,
"compressionType": "LZW",
"bandNames": [
"Band_1"
],
"allowCopy": true,
"allowAnalysis": true,
"itemAccess": false,
"inspectionCapabilities": "",
"noDataValue": 256,
"noDataValues": [
256,
256,
256
],
"minPixelSize": 0,
"maxPixelSize": 0,
"copyrightText": "This dataset was created by the Virginia Department of Conservation and Recreation (DCR) in 2025. DCR will review and make appropriate adjustments to this data with each update of the CRMP.",
"serviceDataType": "esriImageServiceDataTypeThematic",
"serviceSourceType": "esriImageServiceSourceTypeDataset",
"objectIdField": "",
"fields": [],
"capabilities": "Mensuration,Image,Metadata",
"defaultMosaicMethod": "Center",
"allowedMosaicMethods": "",
"sortField": "",
"sortValue": null,
"sortAscending": true,
"mosaicOperator": "First",
"defaultCompressionQuality": 75,
"defaultResamplingMethod": "Bilinear",
"maxImageHeight": 4100,
"maxImageWidth": 15000,
"allowRasterFunction": true,
"rasterFunctionInfos": [
{
"name": "None",
"description": "",
"help": ""
}
],
"rasterTypeInfos": [
{
"name": "Raster Dataset",
"description": "Supports all ArcGIS Raster Datasets",
"help": ""
}
],
"mensurationCapabilities": "Basic",
"hasHistograms": false,
"hasColormap": false,
"hasRasterAttributeTable": false,
"minScale": 0,
"maxScale": 0,
"exportTilesAllowed": false,
"supportsStatistics": false,
"supportsAdvancedQueries": false,
"editFieldsInfo": null,
"ownershipBasedAccessControlForRasters": null,
"allowComputeTiePoints": false,
"useStandardizedQueries": true,
"advancedQueryCapabilities": {
"useStandardizedQueries": true,
"supportsStatistics": false,
"supportsOrderBy": false,
"supportsDistinct": false,
"supportsPagination": false
},
"spatialReference": {
"wkid": 102747,
"latestWkid": 2284
},
"resampling": false
}