{ "currentVersion": 11.3, "serviceDescription": "
Virginia Coastal Resilience Master Plan (CRMP) Mean High Water Change in the Far Future Moderate planning scenario.<\/span><\/p> Rising sea levels will lead to an increase in the area inundated during high tide. This dataset depicts the geographic extent of tidal inundation during Mean High Water (daily high tide) in the Near Future Moderate planning scenario, relative to baseline conditions. This illustrates how tidal conditions are projected to change over time due to relative sea level rise. The raster data has a 10-foot resolution scale. <\/span><\/p> In the CRMP, planning scenarios are defined by their time horizon and projection range, representing future conditions and the uncertainty inherent in climate forecasts that project them. This dataset contains information for the Far Future time horizon, meaning it is suitable for planning through the next 75 years and is based on climate data most relevant to the period between 2060 and 2100. Within this time horizon, this dataset shows a Moderate climate change projection, indicating a \u201cbest estimate\u201d for future conditions, suitable for decisions where a higher level of risk is acceptable.<\/span><\/p> The CRMP\u2019s coastal flood modeling considered changing relative sea level rise projections based on the NOAA 2017 Intermediate High Curve. Complete documentation of the source data and production process can be found in the VA CRMP Phase I Appendix C \u2013 Coastal Flood Hazard Framework Report (Dewberry, 2022).<\/span><\/p> Related resources include the VA CRMP Master Plan report (https://www.dcr.virginia.gov/crmp/) and Coastal Resilience Web Explorer (https://www.dcr.virginia.gov/crmp/cr-web-explorer). <\/span><\/p> For questions or additional information, please contact Flood.Resilience@dcr.virginia.gov.<\/span><\/p><\/div><\/div>",
"name": "CRMP2_FloodHazard/MHW_Change_FarFutureMod",
"description": " Virginia Coastal Resilience Master Plan (CRMP) Mean High Water Change in the Far Future Moderate planning scenario.<\/span><\/p> Rising sea levels will lead to an increase in the area inundated during high tide. This dataset depicts the geographic extent of tidal inundation during Mean High Water (daily high tide) in the Near Future Moderate planning scenario, relative to baseline conditions. This illustrates how tidal conditions are projected to change over time due to relative sea level rise. The raster data has a 10-foot resolution scale. <\/span><\/p> In the CRMP, planning scenarios are defined by their time horizon and projection range, representing future conditions and the uncertainty inherent in climate forecasts that project them. This dataset contains information for the Far Future time horizon, meaning it is suitable for planning through the next 75 years and is based on climate data most relevant to the period between 2060 and 2100. Within this time horizon, this dataset shows a Moderate climate change projection, indicating a \u201cbest estimate\u201d for future conditions, suitable for decisions where a higher level of risk is acceptable.<\/span><\/p> The CRMP\u2019s coastal flood modeling considered changing relative sea level rise projections based on the NOAA 2017 Intermediate High Curve. Complete documentation of the source data and production process can be found in the VA CRMP Phase I Appendix C \u2013 Coastal Flood Hazard Framework Report (Dewberry, 2022).<\/span><\/p> Related resources include the VA CRMP Master Plan report (https://www.dcr.virginia.gov/crmp/) and Coastal Resilience Web Explorer (https://www.dcr.virginia.gov/crmp/cr-web-explorer). <\/span><\/p> For questions or additional information, please contact Flood.Resilience@dcr.virginia.gov.<\/span><\/p><\/div><\/div>",
"extent": {
"xmin": 11571000,
"ymin": 3348000,
"xmax": 12451000,
"ymax": 4393000,
"spatialReference": {
"wkid": 102747,
"latestWkid": 2284
}
},
"initialExtent": {
"xmin": 11571000,
"ymin": 3348000,
"xmax": 12451000,
"ymax": 4393000,
"spatialReference": {
"wkid": 102747,
"latestWkid": 2284
}
},
"fullExtent": {
"xmin": 11571000,
"ymin": 3348000,
"xmax": 12451000,
"ymax": 4393000,
"spatialReference": {
"wkid": 102747,
"latestWkid": 2284
}
},
"sortableFields": "",
"bandCount": 3,
"pixelType": "U8",
"minValues": [],
"maxValues": [],
"meanValues": [],
"stdvValues": [],
"hasMultidimensions": false,
"pixelSizeX": 10,
"pixelSizeY": 10,
"meanPixelSize": 3.0480060960121924,
"datasetFormat": "TIFF",
"uncompressedSize": 27588000000,
"blockWidth": 512,
"blockHeight": 512,
"compressionType": "LZW",
"bandNames": [
"Band_1"
],
"allowCopy": true,
"allowAnalysis": true,
"itemAccess": false,
"inspectionCapabilities": "",
"noDataValue": 256,
"noDataValues": [
256,
256,
256
],
"minPixelSize": 0,
"maxPixelSize": 0,
"copyrightText": "This dataset was created by the Virginia Department of Conservation and Recreation (DCR) in 2025. DCR will review and make appropriate adjustments to this data with each update of the CRMP.",
"serviceDataType": "esriImageServiceDataTypeThematic",
"serviceSourceType": "esriImageServiceSourceTypeDataset",
"objectIdField": "",
"fields": [],
"capabilities": "Mensuration,Image,Metadata",
"defaultMosaicMethod": "Center",
"allowedMosaicMethods": "",
"sortField": "",
"sortValue": null,
"sortAscending": true,
"mosaicOperator": "First",
"defaultCompressionQuality": 75,
"defaultResamplingMethod": "Bilinear",
"maxImageHeight": 4100,
"maxImageWidth": 15000,
"allowRasterFunction": true,
"rasterFunctionInfos": [
{
"name": "None",
"description": "",
"help": ""
}
],
"rasterTypeInfos": [
{
"name": "Raster Dataset",
"description": "Supports all ArcGIS Raster Datasets",
"help": ""
}
],
"mensurationCapabilities": "Basic",
"hasHistograms": false,
"hasColormap": false,
"hasRasterAttributeTable": false,
"minScale": 0,
"maxScale": 0,
"exportTilesAllowed": false,
"supportsStatistics": false,
"supportsAdvancedQueries": false,
"editFieldsInfo": null,
"ownershipBasedAccessControlForRasters": null,
"allowComputeTiePoints": false,
"useStandardizedQueries": true,
"advancedQueryCapabilities": {
"useStandardizedQueries": true,
"supportsStatistics": false,
"supportsOrderBy": false,
"supportsDistinct": false,
"supportsPagination": false
},
"spatialReference": {
"wkid": 102747,
"latestWkid": 2284
},
"resampling": false
}