<?xml version="1.0" standalone="no"?>
<metadata xml:lang="en"><Esri><CreaDate>20250111</CreaDate><CreaTime>22081800</CreaTime><ArcGISFormat>1.0</ArcGISFormat><SyncOnce>FALSE</SyncOnce><DataProperties><itemProps><itemName Sync="TRUE">Rainfall_Baseline.tif</itemName><itemLocation><linkage Sync="TRUE">file://D:\gis_data\rainfall_grad\Rainfall_Baseline.tif</linkage><protocol Sync="TRUE">Local Area Network</protocol></itemLocation><imsContentType Sync="TRUE">002</imsContentType><nativeExtBox><westBL Sync="TRUE">-8705215.372103</westBL><eastBL Sync="TRUE">-8357693.909060</eastBL><southBL Sync="TRUE">4365684.910671</southBL><northBL Sync="TRUE">4777223.645749</northBL><exTypeCode Sync="TRUE">1</exTypeCode></nativeExtBox></itemProps><coordRef><type Sync="TRUE">Projected</type><geogcsn Sync="TRUE">GCS_WGS_1984</geogcsn><csUnits Sync="TRUE">Linear Unit: Meter (1.000000)</csUnits><projcsn Sync="TRUE">WGS_1984_Web_Mercator_Auxiliary_Sphere</projcsn><peXml Sync="TRUE">&lt;ProjectedCoordinateSystem xsi:type='typens:ProjectedCoordinateSystem' xmlns:xsi='http://www.w3.org/2001/XMLSchema-instance' xmlns:xs='http://www.w3.org/2001/XMLSchema' xmlns:typens='http://www.esri.com/schemas/ArcGIS/3.3.0'&gt;&lt;WKT&gt;PROJCS[&amp;quot;WGS_1984_Web_Mercator_Auxiliary_Sphere&amp;quot;,GEOGCS[&amp;quot;GCS_WGS_1984&amp;quot;,DATUM[&amp;quot;D_WGS_1984&amp;quot;,SPHEROID[&amp;quot;WGS_1984&amp;quot;,6378137.0,298.257223563]],PRIMEM[&amp;quot;Greenwich&amp;quot;,0.0],UNIT[&amp;quot;Degree&amp;quot;,0.0174532925199433]],PROJECTION[&amp;quot;Mercator_Auxiliary_Sphere&amp;quot;],PARAMETER[&amp;quot;False_Easting&amp;quot;,0.0],PARAMETER[&amp;quot;False_Northing&amp;quot;,0.0],PARAMETER[&amp;quot;Central_Meridian&amp;quot;,0.0],PARAMETER[&amp;quot;Standard_Parallel_1&amp;quot;,0.0],PARAMETER[&amp;quot;Auxiliary_Sphere_Type&amp;quot;,0.0],UNIT[&amp;quot;Meter&amp;quot;,1.0],AUTHORITY[&amp;quot;EPSG&amp;quot;,3857]]&lt;/WKT&gt;&lt;XOrigin&gt;-20037700&lt;/XOrigin&gt;&lt;YOrigin&gt;-30241100&lt;/YOrigin&gt;&lt;XYScale&gt;148923141.92838538&lt;/XYScale&gt;&lt;ZOrigin&gt;-100000&lt;/ZOrigin&gt;&lt;ZScale&gt;10000&lt;/ZScale&gt;&lt;MOrigin&gt;-100000&lt;/MOrigin&gt;&lt;MScale&gt;10000&lt;/MScale&gt;&lt;XYTolerance&gt;0.001&lt;/XYTolerance&gt;&lt;ZTolerance&gt;0.001&lt;/ZTolerance&gt;&lt;MTolerance&gt;0.001&lt;/MTolerance&gt;&lt;HighPrecision&gt;true&lt;/HighPrecision&gt;&lt;WKID&gt;102100&lt;/WKID&gt;&lt;LatestWKID&gt;3857&lt;/LatestWKID&gt;&lt;/ProjectedCoordinateSystem&gt;</peXml></coordRef><RasterProperties><General><PixelDepth Sync="TRUE">8</PixelDepth><HasColormap Sync="TRUE">TRUE</HasColormap><CompressionType Sync="TRUE">LZW</CompressionType><NumBands Sync="TRUE">1</NumBands><Format Sync="TRUE">TIFF</Format><HasPyramids Sync="TRUE">TRUE</HasPyramids><SourceType Sync="TRUE">discrete</SourceType><PixelType Sync="TRUE">unsigned integer</PixelType><NoDataValue Sync="TRUE">0</NoDataValue></General></RasterProperties><lineage><Process Date="20250111" Name="Project Raster" Time="220818" ToolSource="c:\program files\arcgis\pro\Resources\ArcToolbox\toolboxes\Data Management Tools.tbx\ProjectRaster" export="">ProjectRaster D:\gis_data\rainfall_grad\Unprojected\Rainfall_Baseline.tif D:\gis_data\rainfall_grad\Rainfall_Baseline.tif PROJCS["WGS_1984_Web_Mercator_Auxiliary_Sphere",GEOGCS["GCS_WGS_1984",DATUM["D_WGS_1984",SPHEROID["WGS_1984",6378137.0,298.257223563]],PRIMEM["Greenwich",0.0],UNIT["Degree",0.0174532925199433]],PROJECTION["Mercator_Auxiliary_Sphere"],PARAMETER["False_Easting",0.0],PARAMETER["False_Northing",0.0],PARAMETER["Central_Meridian",0.0],PARAMETER["Standard_Parallel_1",0.0],PARAMETER["Auxiliary_Sphere_Type",0.0],UNIT["Meter",1.0]] "Nearest neighbor" "3.04800609601219 3.04800609601219" WGS_1984_(ITRF00)_To_NAD_1983 # PROJCS["NAD_1983_StatePlane_Virginia_South_FIPS_4502_Feet",GEOGCS["GCS_North_American_1983",DATUM["D_North_American_1983",SPHEROID["GRS_1980",6378137.0,298.257222101]],PRIMEM["Greenwich",0.0],UNIT["Degree",0.0174532925199433]],PROJECTION["Lambert_Conformal_Conic"],PARAMETER["False_Easting",11482916.66666666],PARAMETER["False_Northing",3280833.333333333],PARAMETER["Central_Meridian",-78.5],PARAMETER["Standard_Parallel_1",36.76666666666667],PARAMETER["Standard_Parallel_2",37.96666666666667],PARAMETER["Latitude_Of_Origin",36.33333333333334],UNIT["Foot_US",0.3048006096012192]] NO_VERTICAL</Process><Process Date="20250112" Time="135747" ToolSource="c:\program files\arcgis\pro\Resources\ArcToolbox\toolboxes\Data Management Tools.tbx\SetRasterProperties" Name="" export="">SetRasterProperties D:\gis_data\rainfall_grad\Rainfall_Baseline.tif Generic # # # # #</Process></lineage></DataProperties><SyncDate>20250111</SyncDate><SyncTime>22081800</SyncTime><ModDate>20260203</ModDate><ModTime>13350700</ModTime><scaleRange><minScale>150000000</minScale><maxScale>5000</maxScale></scaleRange><ArcGISProfile>ItemDescription</ArcGISProfile></Esri><dataIdInfo><envirDesc Sync="TRUE">Microsoft Windows Server 2016 Technical Preview Version 10.0 (Build 20348) ; Esri ArcGIS 13.3.0.52636</envirDesc><dataLang><languageCode Sync="TRUE" value="eng"/><countryCode Sync="TRUE" value="USA"/></dataLang><idCitation><resTitle Sync="FALSE">Rainfall-Driven Flood Extents, Baseline Scenario</resTitle><presForm><PresFormCd Sync="TRUE" value="005"/></presForm></idCitation><spatRpType><SpatRepTypCd Sync="TRUE" value="002"/></spatRpType><dataExt><geoEle xmlns=""><GeoBndBox esriExtentType="search"><exTypeCode Sync="TRUE">1</exTypeCode><westBL Sync="TRUE">-78.200280</westBL><eastBL Sync="TRUE">-75.078442</eastBL><northBL Sync="TRUE">39.386757</northBL><southBL Sync="TRUE">36.471431</southBL></GeoBndBox></geoEle></dataExt><idAbs>&lt;DIV STYLE="text-align:Left;"&gt;&lt;DIV&gt;&lt;DIV&gt;&lt;P&gt;&lt;SPAN&gt;Virginia Coastal Resilience Master Plan (CRMP) Graduated Rainfall-Driven Flood Extents for the Baseline planning scenario. &lt;/SPAN&gt;&lt;/P&gt;&lt;P&gt;&lt;SPAN&gt;Rainfall-driven flooding (also known as pluvial flooding) occurs when intense or prolonged rainfall exceeds the land’s ability to drain or absorb water, leading to inundation of normally dry lands. Rainfall-driven flood models can indicate areas prone to rainfall-driven flooding that are not always reflected in regulatory flood maps. This dataset depicts the extent of potential rainfall-driven flooding under various flood conditions. 10-foot resolution raster data is classified and colored to represent the extent of the most frequent (least-rare) floods that may impact a given area. The included flood conditions represent a range of rainfall amounts derived from statistical analysis of historic events. The rainfall amounts and their resultant flooding extents are described in terms of their relative annual exceedance probability (AEP), which represents the percentage chance that a given flood magnitude will occur in a given year. The specific flood conditions included are: 50% AEP, 20% AEP, 10% AEP, 4% AEP, 2% AEP, 1% AEP, and 0.2% AEP. &lt;/SPAN&gt;&lt;/P&gt;&lt;P&gt;&lt;SPAN&gt;This dataset contains information for the baseline planning scenario, meaning it is based on historical, observed data and does not incorporate anticipated future conditions. This data is suitable for understanding current conditions (2020) and can serve as a basis for comparison with future conditions.&lt;/SPAN&gt;&lt;/P&gt;&lt;P&gt;&lt;SPAN&gt;The CRMP’s rainfall-driven flood modeling considered future precipitation projections based on the Mid-Atlantic Regional Integrated Sciences and Assessments (MARISA) predictive intensity, duration, and frequency curves for Virginia. Complete documentation of the source data and production process is provided in the Pluvial Modeling Final Report (Dewberry 2024, Addendum A).&lt;/SPAN&gt;&lt;/P&gt;&lt;P&gt;&lt;SPAN&gt;Raster values are classified as follows: 40 = 50% AEP, 50 = 40% AEP, 60 = 10% AEP, 70 = 4% AEP, 80 = 2% AEP, 90 = 1% AEP, 100 = 0.2% AEP, 0/Null = None.&lt;/SPAN&gt;&lt;/P&gt;&lt;P&gt;&lt;SPAN&gt;Related resources include the VA CRMP Master Plan report (https://www.dcr.virginia.gov/crmp/) and Coastal Resilience Web Explorer (https://www.dcr.virginia.gov/crmp/cr-web-explorer). &lt;/SPAN&gt;&lt;/P&gt;&lt;P&gt;&lt;SPAN&gt;For questions or additional information, please contact Flood.Resilience@dcr.virginia.gov.&lt;/SPAN&gt;&lt;/P&gt;&lt;/DIV&gt;&lt;/DIV&gt;&lt;/DIV&gt;</idAbs><idPurp>This data was created to support Phase II of the Virginia CRMP. The CRMP and its products are designed to be a trusted resource to assist government entities in making evidence-based decisions using high-quality flood resilience data. CRMP hazard data represents the best available information related to coastal Virginia’s major flood hazard sources and should be used to inform local and regional flood resilience planning and decision-making. </idPurp><idCredit>This dataset was created by the Virginia Department of Conservation and Recreation (DCR) in 2024. DCR will review and make appropriate adjustments to this data with each update of the CRMP.</idCredit><resConst><Consts><useLimit>&lt;DIV STYLE="text-align:Left;"&gt;&lt;DIV&gt;&lt;DIV&gt;&lt;P&gt;&lt;SPAN&gt;The analysis is based on the best available models and datasets when the data were created. &lt;/SPAN&gt;&lt;/P&gt;&lt;P&gt;&lt;SPAN&gt;Flood hazard models are simplified representations of complex and interconnected natural and manmade systems. Users should note that the following factors are not included in the flood hazard models: stormwater infrastructure, narrow floodwalls, compound flooding, erosion, and groundwater levels.&lt;/SPAN&gt;&lt;/P&gt;&lt;/DIV&gt;&lt;/DIV&gt;&lt;/DIV&gt;</useLimit></Consts></resConst><searchKeys><keyword>Flooding</keyword><keyword>Flood Hazard</keyword><keyword>Coastal Resilience</keyword><keyword>Virginia</keyword><keyword>DCR</keyword><keyword>CRMP</keyword><keyword>Rainfall</keyword><keyword>Pluvial</keyword><keyword>Graduated Floodplain</keyword><keyword>Precipitation</keyword><keyword>Baseline</keyword><keyword>Present</keyword></searchKeys></dataIdInfo><mdLang><languageCode Sync="TRUE" value="eng"/><countryCode Sync="TRUE" value="USA"/></mdLang><mdChar><CharSetCd Sync="TRUE" value="004"/></mdChar><distInfo><distFormat><formatName Sync="TRUE">Raster Dataset</formatName></distFormat></distInfo><mdHrLv><ScopeCd Sync="TRUE" value="005"/></mdHrLv><mdHrLvName Sync="TRUE">dataset</mdHrLvName><refSysInfo><RefSystem><refSysID><identCode Sync="TRUE" code="3857"/><idCodeSpace Sync="TRUE">EPSG</idCodeSpace><idVersion Sync="TRUE">6.18.3(9.3.1.2)</idVersion></refSysID></RefSystem></refSysInfo><spatRepInfo><Georect><cellGeo><CellGeoCd Sync="TRUE" value="002"/></cellGeo><numDims Sync="TRUE">2</numDims><tranParaAv Sync="TRUE">1</tranParaAv><chkPtAv Sync="TRUE">0</chkPtAv><cornerPts><pos Sync="TRUE">-8705215.372103 4365684.910671</pos></cornerPts><cornerPts><pos Sync="TRUE">-8705215.372103 4777223.645749</pos></cornerPts><cornerPts><pos Sync="TRUE">-8357693.909060 4777223.645749</pos></cornerPts><cornerPts><pos Sync="TRUE">-8357693.909060 4365684.910671</pos></cornerPts><centerPt><pos Sync="TRUE">-8531454.640582 4571454.278210</pos></centerPt><axisDimension type="002"><dimSize Sync="TRUE">114016</dimSize><dimResol><value Sync="TRUE" uom="m">3.048006</value></dimResol></axisDimension><axisDimension type="001"><dimSize Sync="TRUE">135019</dimSize><dimResol><value Sync="TRUE" uom="m">3.048006</value></dimResol></axisDimension><ptInPixel><PixOrientCd Sync="TRUE" value="001"/></ptInPixel></Georect></spatRepInfo><contInfo><ImgDesc><contentTyp><ContentTypCd Sync="TRUE" value="002"/></contentTyp><covDim><Band><dimDescrp Sync="TRUE">Band_1</dimDescrp><maxVal Sync="TRUE">100.000000</maxVal><minVal Sync="TRUE">40.000000</minVal><bitsPerVal Sync="TRUE">8</bitsPerVal><valUnit><UOM type="length"/></valUnit></Band></covDim></ImgDesc></contInfo><mdDateSt Sync="TRUE">20260203</mdDateSt></metadata>
