{ "currentVersion": 11.3, "serviceDescription": "
Virginia Coastal Resilience Master Plan (CRMP) Graduated Rainfall-Driven Flood Extents for the Baseline planning scenario. <\/span><\/p> Rainfall-driven flooding (also known as pluvial flooding) occurs when intense or prolonged rainfall exceeds the land\u2019s ability to drain or absorb water, leading to inundation of normally dry lands. Rainfall-driven flood models can indicate areas prone to rainfall-driven flooding that are not always reflected in regulatory flood maps. This dataset depicts the extent of potential rainfall-driven flooding under various flood conditions. 10-foot resolution raster data is classified and colored to represent the extent of the most frequent (least-rare) floods that may impact a given area. The included flood conditions represent a range of rainfall amounts derived from statistical analysis of historic events. The rainfall amounts and their resultant flooding extents are described in terms of their relative annual exceedance probability (AEP), which represents the percentage chance that a given flood magnitude will occur in a given year. The specific flood conditions included are: 50% AEP, 20% AEP, 10% AEP, 4% AEP, 2% AEP, 1% AEP, and 0.2% AEP. <\/span><\/p> This dataset contains information for the baseline planning scenario, meaning it is based on historical, observed data and does not incorporate anticipated future conditions. This data is suitable for understanding current conditions (2020) and can serve as a basis for comparison with future conditions.<\/span><\/p> The CRMP\u2019s rainfall-driven flood modeling considered future precipitation projections based on the Mid-Atlantic Regional Integrated Sciences and Assessments (MARISA) predictive intensity, duration, and frequency curves for Virginia. Complete documentation of the source data and production process is provided in the Pluvial Modeling Final Report (Dewberry 2024, Addendum A).<\/span><\/p> Raster values are classified as follows: 40 = 50% AEP, 50 = 40% AEP, 60 = 10% AEP, 70 = 4% AEP, 80 = 2% AEP, 90 = 1% AEP, 100 = 0.2% AEP, 0/Null = None.<\/span><\/p> Related resources include the VA CRMP Master Plan report (https://www.dcr.virginia.gov/crmp/) and Coastal Resilience Web Explorer (https://www.dcr.virginia.gov/crmp/cr-web-explorer). <\/span><\/p> For questions or additional information, please contact Flood.Resilience@dcr.virginia.gov.<\/span><\/p><\/div><\/div><\/div>",
"name": "CRMP2_FloodHazard/Rainfall_Baseline",
"description": " Virginia Coastal Resilience Master Plan (CRMP) Graduated Rainfall-Driven Flood Extents for the Baseline planning scenario. <\/span><\/p> Rainfall-driven flooding (also known as pluvial flooding) occurs when intense or prolonged rainfall exceeds the land\u2019s ability to drain or absorb water, leading to inundation of normally dry lands. Rainfall-driven flood models can indicate areas prone to rainfall-driven flooding that are not always reflected in regulatory flood maps. This dataset depicts the extent of potential rainfall-driven flooding under various flood conditions. 10-foot resolution raster data is classified and colored to represent the extent of the most frequent (least-rare) floods that may impact a given area. The included flood conditions represent a range of rainfall amounts derived from statistical analysis of historic events. The rainfall amounts and their resultant flooding extents are described in terms of their relative annual exceedance probability (AEP), which represents the percentage chance that a given flood magnitude will occur in a given year. The specific flood conditions included are: 50% AEP, 20% AEP, 10% AEP, 4% AEP, 2% AEP, 1% AEP, and 0.2% AEP. <\/span><\/p> This dataset contains information for the baseline planning scenario, meaning it is based on historical, observed data and does not incorporate anticipated future conditions. This data is suitable for understanding current conditions (2020) and can serve as a basis for comparison with future conditions.<\/span><\/p> The CRMP\u2019s rainfall-driven flood modeling considered future precipitation projections based on the Mid-Atlantic Regional Integrated Sciences and Assessments (MARISA) predictive intensity, duration, and frequency curves for Virginia. Complete documentation of the source data and production process is provided in the Pluvial Modeling Final Report (Dewberry 2024, Addendum A).<\/span><\/p> Raster values are classified as follows: 40 = 50% AEP, 50 = 40% AEP, 60 = 10% AEP, 70 = 4% AEP, 80 = 2% AEP, 90 = 1% AEP, 100 = 0.2% AEP, 0/Null = None.<\/span><\/p> Related resources include the VA CRMP Master Plan report (https://www.dcr.virginia.gov/crmp/) and Coastal Resilience Web Explorer (https://www.dcr.virginia.gov/crmp/cr-web-explorer). <\/span><\/p> For questions or additional information, please contact Flood.Resilience@dcr.virginia.gov.<\/span><\/p><\/div><\/div><\/div>",
"extent": {
"xmin": -8705215.372103015,
"ymin": 4365684.910671218,
"xmax": -8357693.909060089,
"ymax": 4777223.645748689,
"spatialReference": {
"wkid": 102100,
"latestWkid": 3857
}
},
"initialExtent": {
"xmin": -8705215.372103015,
"ymin": 4365684.910671218,
"xmax": -8357693.909060089,
"ymax": 4777223.645748689,
"spatialReference": {
"wkid": 102100,
"latestWkid": 3857
}
},
"fullExtent": {
"xmin": -8705215.372103015,
"ymin": 4365684.910671218,
"xmax": -8357693.909060089,
"ymax": 4777223.645748689,
"spatialReference": {
"wkid": 102100,
"latestWkid": 3857
}
},
"sortableFields": "",
"bandCount": 1,
"pixelType": "U8",
"minValues": [
40
],
"maxValues": [
100
],
"meanValues": [
60.896885345538
],
"stdvValues": [
23.520761446492
],
"hasMultidimensions": false,
"pixelSizeX": 3.0480060960121915,
"pixelSizeY": 3.048006096012195,
"meanPixelSize": 3.0480060960121933,
"datasetFormat": "TIFF",
"uncompressedSize": 15394326304,
"blockWidth": 128,
"blockHeight": 128,
"compressionType": "LZW",
"bandNames": [
"Band_1"
],
"allowCopy": true,
"allowAnalysis": true,
"itemAccess": false,
"inspectionCapabilities": "",
"noDataValue": 0,
"noDataValues": [
0
],
"minPixelSize": 0,
"maxPixelSize": 0,
"copyrightText": "This dataset was created by the Virginia Department of Conservation and Recreation (DCR) in 2024. DCR will review and make appropriate adjustments to this data with each update of the CRMP.",
"serviceDataType": "esriImageServiceDataTypeThematic",
"serviceSourceType": "esriImageServiceSourceTypeDataset",
"objectIdField": "",
"fields": [],
"capabilities": "Mensuration,Image,Metadata",
"defaultMosaicMethod": "Center",
"allowedMosaicMethods": "",
"sortField": "",
"sortValue": null,
"sortAscending": true,
"mosaicOperator": "First",
"defaultCompressionQuality": 75,
"defaultResamplingMethod": "Bilinear",
"maxImageHeight": 4100,
"maxImageWidth": 15000,
"allowRasterFunction": true,
"rasterFunctionInfos": [
{
"name": "None",
"description": "",
"help": ""
}
],
"rasterTypeInfos": [
{
"name": "Raster Dataset",
"description": "Supports all ArcGIS Raster Datasets",
"help": ""
}
],
"mensurationCapabilities": "Basic",
"hasHistograms": true,
"hasColormap": true,
"hasRasterAttributeTable": true,
"minScale": 0,
"maxScale": 0,
"exportTilesAllowed": false,
"supportsStatistics": false,
"supportsAdvancedQueries": false,
"editFieldsInfo": null,
"ownershipBasedAccessControlForRasters": null,
"allowComputeTiePoints": false,
"useStandardizedQueries": true,
"advancedQueryCapabilities": {
"useStandardizedQueries": true,
"supportsStatistics": false,
"supportsOrderBy": false,
"supportsDistinct": false,
"supportsPagination": false
},
"spatialReference": {
"wkid": 102100,
"latestWkid": 3857
},
"resampling": false
}