<?xml version="1.0" encoding="UTF-8" standalone="no"?>
<metadata xml:lang="en">
<Esri>
<CreaDate>20250116</CreaDate>
<CreaTime>00352900</CreaTime>
<ArcGISFormat>1.0</ArcGISFormat>
<SyncOnce>FALSE</SyncOnce>
<DataProperties>
<itemProps>
<itemName Sync="TRUE">2020_500_mosaic.tif</itemName>
<itemLocation>
<linkage Sync="TRUE">file://E:\Coastal_Mosaics\2020_500_mosaic.tif</linkage>
<protocol Sync="TRUE">Local Area Network</protocol>
</itemLocation>
<imsContentType Sync="TRUE">002</imsContentType>
<nativeExtBox>
<westBL Sync="TRUE">-8705215.092224</westBL>
<eastBL Sync="TRUE">-8357693.629181</eastBL>
<southBL Sync="TRUE">4365683.781735</southBL>
<northBL Sync="TRUE">4777222.516812</northBL>
<exTypeCode Sync="TRUE">1</exTypeCode>
</nativeExtBox>
</itemProps>
<coordRef>
<type Sync="TRUE">Projected</type>
<geogcsn Sync="TRUE">GCS_WGS_1984</geogcsn>
<csUnits Sync="TRUE">Linear Unit: Meter (1.000000)</csUnits>
<projcsn Sync="TRUE">WGS_1984_Web_Mercator_Auxiliary_Sphere</projcsn>
<peXml Sync="TRUE">&lt;ProjectedCoordinateSystem xsi:type='typens:ProjectedCoordinateSystem' xmlns:xsi='http://www.w3.org/2001/XMLSchema-instance' xmlns:xs='http://www.w3.org/2001/XMLSchema' xmlns:typens='http://www.esri.com/schemas/ArcGIS/3.2.0'&gt;&lt;WKT&gt;PROJCS[&amp;quot;WGS_1984_Web_Mercator_Auxiliary_Sphere&amp;quot;,GEOGCS[&amp;quot;GCS_WGS_1984&amp;quot;,DATUM[&amp;quot;D_WGS_1984&amp;quot;,SPHEROID[&amp;quot;WGS_1984&amp;quot;,6378137.0,298.257223563]],PRIMEM[&amp;quot;Greenwich&amp;quot;,0.0],UNIT[&amp;quot;Degree&amp;quot;,0.0174532925199433]],PROJECTION[&amp;quot;Mercator_Auxiliary_Sphere&amp;quot;],PARAMETER[&amp;quot;False_Easting&amp;quot;,0.0],PARAMETER[&amp;quot;False_Northing&amp;quot;,0.0],PARAMETER[&amp;quot;Central_Meridian&amp;quot;,0.0],PARAMETER[&amp;quot;Standard_Parallel_1&amp;quot;,0.0],PARAMETER[&amp;quot;Auxiliary_Sphere_Type&amp;quot;,0.0],UNIT[&amp;quot;Meter&amp;quot;,1.0],AUTHORITY[&amp;quot;EPSG&amp;quot;,3857]]&lt;/WKT&gt;&lt;XOrigin&gt;-20037700&lt;/XOrigin&gt;&lt;YOrigin&gt;-30241100&lt;/YOrigin&gt;&lt;XYScale&gt;148923141.92838538&lt;/XYScale&gt;&lt;ZOrigin&gt;-100000&lt;/ZOrigin&gt;&lt;ZScale&gt;10000&lt;/ZScale&gt;&lt;MOrigin&gt;-100000&lt;/MOrigin&gt;&lt;MScale&gt;10000&lt;/MScale&gt;&lt;XYTolerance&gt;0.001&lt;/XYTolerance&gt;&lt;ZTolerance&gt;0.001&lt;/ZTolerance&gt;&lt;MTolerance&gt;0.001&lt;/MTolerance&gt;&lt;HighPrecision&gt;true&lt;/HighPrecision&gt;&lt;WKID&gt;102100&lt;/WKID&gt;&lt;LatestWKID&gt;3857&lt;/LatestWKID&gt;&lt;/ProjectedCoordinateSystem&gt;</peXml>
</coordRef>
<RasterProperties>
<General>
<PixelDepth Sync="TRUE">32</PixelDepth>
<HasColormap Sync="TRUE">FALSE</HasColormap>
<CompressionType Sync="TRUE">LZW</CompressionType>
<NumBands Sync="TRUE">1</NumBands>
<Format Sync="TRUE">TIFF</Format>
<HasPyramids Sync="TRUE">TRUE</HasPyramids>
<SourceType Sync="TRUE">continuous</SourceType>
<PixelType Sync="TRUE">floating point</PixelType>
<NoDataValue Sync="TRUE">3.4e+38</NoDataValue>
</General>
</RasterProperties>
<lineage>
<Process Date="20250116" Time="003533" ToolSource="c:\program files\arcgis\pro\Resources\ArcToolbox\toolboxes\Data Management Tools.tbx\MosaicToNewRaster">MosaicToNewRaster 'F:\ORP\GIS Data\S3\Coastal\DG\2020\500\VA_CRMP_DG_1.tif';'F:\ORP\GIS Data\S3\Coastal\DG\2020\500\VA_CRMP_DG_2.tif';'F:\ORP\GIS Data\S3\Coastal\DG\2020\500\VA_CRMP_DG_3.tif';'F:\ORP\GIS Data\S3\Coastal\DG\2020\500\VA_CRMP_DG_4.tif';'F:\ORP\GIS Data\S3\Coastal\DG\2020\500\VA_CRMP_DG_5.tif';'F:\ORP\GIS Data\S3\Coastal\DG\2020\500\VA_CRMP_DG_6.tif';'F:\ORP\GIS Data\S3\Coastal\DG\2020\500\VA_CRMP_DG_7.tif';'F:\ORP\GIS Data\S3\Coastal\DG\2020\500\VA_CRMP_DG_8.tif';'F:\ORP\GIS Data\S3\Coastal\DG\2020\500\VA_CRMP_DG_9.tif';'F:\ORP\GIS Data\S3\Coastal\DG\2020\500\VA_CRMP_DG_10.tif';'F:\ORP\GIS Data\S3\Coastal\DG\2020\500\VA_CRMP_DG_11.tif';'F:\ORP\GIS Data\S3\Coastal\DG\2020\500\VA_CRMP_DG_12.tif';'F:\ORP\GIS Data\S3\Coastal\DG\2020\500\VA_CRMP_DG_13.tif';'F:\ORP\GIS Data\S3\Coastal\DG\2020\500\VA_CRMP_DG_14.tif';'F:\ORP\GIS Data\S3\Coastal\DG\2020\500\VA_CRMP_DG_15.tif';'F:\ORP\GIS Data\S3\Coastal\DG\2020\500\VA_CRMP_DG_16.tif';'F:\ORP\GIS Data\S3\Coastal\DG\2020\500\VA_CRMP_DG_17.tif';'F:\ORP\GIS Data\S3\Coastal\DG\2020\500\VA_CRMP_DG_18.tif';'F:\ORP\GIS Data\S3\Coastal\DG\2020\500\VA_CRMP_DG_19.tif';'F:\ORP\GIS Data\S3\Coastal\DG\2020\500\VA_CRMP_DG_20.tif';'F:\ORP\GIS Data\S3\Coastal\DG\2020\500\VA_CRMP_DG_21.tif';'F:\ORP\GIS Data\S3\Coastal\DG\2020\500\VA_CRMP_DG_22.tif';'F:\ORP\GIS Data\S3\Coastal\DG\2020\500\VA_CRMP_DG_23.tif';'F:\ORP\GIS Data\S3\Coastal\DG\2020\500\VA_CRMP_DG_24.tif';'F:\ORP\GIS Data\S3\Coastal\DG\2020\500\VA_CRMP_DG_25.tif';'F:\ORP\GIS Data\S3\Coastal\DG\2020\500\VA_CRMP_DG_26.tif';'F:\ORP\GIS Data\S3\Coastal\DG\2020\500\VA_CRMP_DG_27.tif';'F:\ORP\GIS Data\S3\Coastal\DG\2020\500\VA_CRMP_DG_28.tif';'F:\ORP\GIS Data\S3\Coastal\DG\2020\500\VA_CRMP_DG_29.tif';'F:\ORP\GIS Data\S3\Coastal\DG\2020\500\VA_CRMP_DG_30.tif';'F:\ORP\GIS Data\S3\Coastal\DG\2020\500\VA_CRMP_DG_31.tif';'F:\ORP\GIS Data\S3\Coastal\DG\2020\500\VA_CRMP_DG_32.tif';'F:\ORP\GIS Data\S3\Coastal\DG\2020\500\VA_CRMP_DG_33.tif';'F:\ORP\GIS Data\S3\Coastal\DG\2020\500\VA_CRMP_DG_34.tif';'F:\ORP\GIS Data\S3\Coastal\DG\2020\500\VA_CRMP_DG_35.tif';'F:\ORP\GIS Data\S3\Coastal\DG\2020\500\VA_CRMP_DG_36.tif';'F:\ORP\GIS Data\S3\Coastal\DG\2020\500\VA_CRMP_DG_37.tif';'F:\ORP\GIS Data\S3\Coastal\DG\2020\500\VA_CRMP_DG_38.tif';'F:\ORP\GIS Data\S3\Coastal\DG\2020\500\VA_CRMP_DG_39.tif';'F:\ORP\GIS Data\S3\Coastal\DG\2020\500\VA_CRMP_DG_40.tif';'F:\ORP\GIS Data\S3\Coastal\DG\2020\500\VA_CRMP_DG_41.tif';'F:\ORP\GIS Data\S3\Coastal\DG\2020\500\VA_CRMP_DG_42.tif';'F:\ORP\GIS Data\S3\Coastal\DG\2020\500\VA_CRMP_DG_43.tif';'F:\ORP\GIS Data\S3\Coastal\DG\2020\500\VA_CRMP_DG_44.tif';'F:\ORP\GIS Data\S3\Coastal\DG\2020\500\VA_CRMP_DG_45.tif';'F:\ORP\GIS Data\S3\Coastal\DG\2020\500\VA_CRMP_DG_46.tif';'F:\ORP\GIS Data\S3\Coastal\DG\2020\500\VA_CRMP_DG_47.tif';'F:\ORP\GIS Data\S3\Coastal\DG\2020\500\VA_CRMP_DG_48.tif';'F:\ORP\GIS Data\S3\Coastal\DG\2020\500\VA_CRMP_DG_49.tif';'F:\ORP\GIS Data\S3\Coastal\DG\2020\500\VA_CRMP_DG_50.tif';'F:\ORP\GIS Data\S3\Coastal\DG\2020\500\VA_CRMP_DG_51.tif';'F:\ORP\GIS Data\S3\Coastal\DG\2020\500\VA_CRMP_DG_52.tif';'F:\ORP\GIS Data\S3\Coastal\DG\2020\500\VA_CRMP_DG_53.tif';'F:\ORP\GIS Data\S3\Coastal\DG\2020\500\VA_CRMP_DG_54.tif';'F:\ORP\GIS Data\S3\Coastal\DG\2020\500\VA_CRMP_DG_55.tif';'F:\ORP\GIS Data\S3\Coastal\DG\2020\500\VA_CRMP_DG_56.tif';'F:\ORP\GIS Data\S3\Coastal\DG\2020\500\VA_CRMP_DG_57.tif';'F:\ORP\GIS Data\S3\Coastal\DG\2020\500\VA_CRMP_DG_58.tif';'F:\ORP\GIS Data\S3\Coastal\DG\2020\500\VA_CRMP_DG_59.tif';'F:\ORP\GIS Data\S3\Coastal\DG\2020\500\VA_CRMP_DG_60.tif';'F:\ORP\GIS Data\S3\Coastal\DG\2020\500\VA_CRMP_DG_61.tif';'F:\ORP\GIS Data\S3\Coastal\DG\2020\500\VA_CRMP_DG_62.tif';'F:\ORP\GIS Data\S3\Coastal\DG\2020\500\VA_CRMP_DG_63.tif';'F:\ORP\GIS Data\S3\Coastal\DG\2020\500\VA_CRMP_DG_64.tif';'F:\ORP\GIS Data\S3\Coastal\DG\2020\500\VA_CRMP_DG_65.tif';'F:\ORP\GIS Data\S3\Coastal\DG\2020\500\VA_CRMP_DG_66.tif';'F:\ORP\GIS Data\S3\Coastal\DG\2020\500\VA_CRMP_DG_67.tif';'F:\ORP\GIS Data\S3\Coastal\DG\2020\500\VA_CRMP_DG_68.tif';'F:\ORP\GIS Data\S3\Coastal\DG\2020\500\VA_CRMP_DG_69.tif';'F:\ORP\GIS Data\S3\Coastal\DG\2020\500\VA_CRMP_DG_70.tif';'F:\ORP\GIS Data\S3\Coastal\DG\2020\500\VA_CRMP_DG_71.tif';'F:\ORP\GIS Data\S3\Coastal\DG\2020\500\VA_CRMP_DG_72.tif';'F:\ORP\GIS Data\S3\Coastal\DG\2020\500\VA_CRMP_DG_73.tif';'F:\ORP\GIS Data\S3\Coastal\DG\2020\500\VA_CRMP_DG_74.tif';'F:\ORP\GIS Data\S3\Coastal\DG\2020\500\VA_CRMP_DG_75.tif';'F:\ORP\GIS Data\S3\Coastal\DG\2020\500\VA_CRMP_DG_76.tif';'F:\ORP\GIS Data\S3\Coastal\DG\2020\500\VA_CRMP_DG_77.tif';'F:\ORP\GIS Data\S3\Coastal\DG\2020\500\VA_CRMP_DG_78.tif';'F:\ORP\GIS Data\S3\Coastal\DG\2020\500\VA_CRMP_DG_79.tif';'F:\ORP\GIS Data\S3\Coastal\DG\2020\500\VA_CRMP_DG_80.tif';'F:\ORP\GIS Data\S3\Coastal\DG\2020\500\VA_CRMP_DG_81.tif';'F:\ORP\GIS Data\S3\Coastal\DG\2020\500\VA_CRMP_DG_82.tif';'F:\ORP\GIS Data\S3\Coastal\DG\2020\500\VA_CRMP_DG_83.tif';'F:\ORP\GIS Data\S3\Coastal\DG\2020\500\VA_CRMP_DG_84.tif';'F:\ORP\GIS Data\S3\Coastal\DG\2020\500\VA_CRMP_DG_85.tif';'F:\ORP\GIS Data\S3\Coastal\DG\2020\500\VA_CRMP_DG_86.tif';'F:\ORP\GIS Data\S3\Coastal\DG\2020\500\VA_CRMP_DG_87.tif';'F:\ORP\GIS Data\S3\Coastal\DG\2020\500\VA_CRMP_DG_88.tif';'F:\ORP\GIS Data\S3\Coastal\DG\2020\500\VA_CRMP_DG_89.tif';'F:\ORP\GIS Data\S3\Coastal\DG\2020\500\VA_CRMP_DG_90.tif';'F:\ORP\GIS Data\S3\Coastal\DG\2020\500\VA_CRMP_DG_91.tif';'F:\ORP\GIS Data\S3\Coastal\DG\2020\500\VA_CRMP_DG_92.tif';'F:\ORP\GIS Data\S3\Coastal\DG\2020\500\VA_CRMP_DG_93.tif';'F:\ORP\GIS Data\S3\Coastal\DG\2020\500\VA_CRMP_DG_94.tif';'F:\ORP\GIS Data\S3\Coastal\DG\2020\500\VA_CRMP_DG_95.tif';'F:\ORP\GIS Data\S3\Coastal\DG\2020\500\VA_CRMP_DG_96.tif';'F:\ORP\GIS Data\S3\Coastal\DG\2020\500\VA_CRMP_DG_97.tif';'F:\ORP\GIS Data\S3\Coastal\DG\2020\500\VA_CRMP_DG_98.tif';'F:\ORP\GIS Data\S3\Coastal\DG\2020\500\VA_CRMP_DG_99.tif';'F:\ORP\GIS Data\S3\Coastal\DG\2020\500\VA_CRMP_DG_100.tif';'F:\ORP\GIS Data\S3\Coastal\DG\2020\500\VA_CRMP_DG_101.tif';'F:\ORP\GIS Data\S3\Coastal\DG\2020\500\VA_CRMP_DG_102.tif';'F:\ORP\GIS Data\S3\Coastal\DG\2020\500\VA_CRMP_DG_103.tif';'F:\ORP\GIS Data\S3\Coastal\DG\2020\500\VA_CRMP_DG_104.tif';'F:\ORP\GIS Data\S3\Coastal\DG\2020\500\VA_CRMP_DG_105.tif';'F:\ORP\GIS Data\S3\Coastal\DG\2020\500\VA_CRMP_DG_106.tif';'F:\ORP\GIS Data\S3\Coastal\DG\2020\500\VA_CRMP_DG_107.tif';'F:\ORP\GIS Data\S3\Coastal\DG\2020\500\VA_CRMP_DG_108.tif';'F:\ORP\GIS Data\S3\Coastal\DG\2020\500\VA_CRMP_DG_109.tif';'F:\ORP\GIS Data\S3\Coastal\DG\2020\500\VA_CRMP_DG_110.tif';'F:\ORP\GIS Data\S3\Coastal\DG\2020\500\VA_CRMP_DG_111.tif';'F:\ORP\GIS Data\S3\Coastal\DG\2020\500\VA_CRMP_DG_112.tif';'F:\ORP\GIS Data\S3\Coastal\DG\2020\500\VA_CRMP_DG_113.tif';'F:\ORP\GIS Data\S3\Coastal\DG\2020\500\VA_CRMP_DG_114.tif';'F:\ORP\GIS Data\S3\Coastal\DG\2020\500\VA_CRMP_DG_115.tif';'F:\ORP\GIS Data\S3\Coastal\DG\2020\500\VA_CRMP_DG_116.tif';'F:\ORP\GIS Data\S3\Coastal\DG\2020\500\VA_CRMP_DG_117.tif';'F:\ORP\GIS Data\S3\Coastal\DG\2020\500\VA_CRMP_DG_118.tif';'F:\ORP\GIS Data\S3\Coastal\DG\2020\500\VA_CRMP_DG_119.tif';'F:\ORP\GIS Data\S3\Coastal\DG\2020\500\VA_CRMP_DG_120.tif';'F:\ORP\GIS Data\S3\Coastal\DG\2020\500\VA_CRMP_DG_121.tif';'F:\ORP\GIS Data\S3\Coastal\DG\2020\500\VA_CRMP_DG_122.tif';'F:\ORP\GIS Data\S3\Coastal\DG\2020\500\VA_CRMP_DG_123.tif';'F:\ORP\GIS Data\S3\Coastal\DG\2020\500\VA_CRMP_DG_124.tif';'F:\ORP\GIS Data\S3\Coastal\DG\2020\500\VA_CRMP_DG_125.tif';'F:\ORP\GIS Data\S3\Coastal\DG\2020\500\VA_CRMP_DG_126.tif';'F:\ORP\GIS Data\S3\Coastal\DG\2020\500\VA_CRMP_DG_127.tif';'F:\ORP\GIS Data\S3\Coastal\DG\2020\500\VA_CRMP_DG_128.tif';'F:\ORP\GIS Data\S3\Coastal\DG\2020\500\VA_CRMP_DG_129.tif';'F:\ORP\GIS Data\S3\Coastal\DG\2020\500\VA_CRMP_DG_130.tif';'F:\ORP\GIS Data\S3\Coastal\DG\2020\500\VA_CRMP_DG_131.tif';'F:\ORP\GIS Data\S3\Coastal\DG\2020\500\VA_CRMP_DG_132.tif';'F:\ORP\GIS Data\S3\Coastal\DG\2020\500\VA_CRMP_DG_133.tif';'F:\ORP\GIS Data\S3\Coastal\DG\2020\500\VA_CRMP_DG_134.tif';'F:\ORP\GIS Data\S3\Coastal\DG\2020\500\VA_CRMP_DG_135.tif';'F:\ORP\GIS Data\S3\Coastal\DG\2020\500\VA_CRMP_DG_136.tif';'F:\ORP\GIS Data\S3\Coastal\DG\2020\500\VA_CRMP_DG_137.tif';'F:\ORP\GIS Data\S3\Coastal\DG\2020\500\VA_CRMP_DG_138.tif';'F:\ORP\GIS Data\S3\Coastal\DG\2020\500\VA_CRMP_DG_139.tif';'F:\ORP\GIS Data\S3\Coastal\DG\2020\500\VA_CRMP_DG_140.tif';'F:\ORP\GIS Data\S3\Coastal\DG\2020\500\VA_CRMP_DG_141.tif';'F:\ORP\GIS Data\S3\Coastal\DG\2020\500\VA_CRMP_DG_142.tif';'F:\ORP\GIS Data\S3\Coastal\DG\2020\500\VA_CRMP_DG_143.tif';'F:\ORP\GIS Data\S3\Coastal\DG\2020\500\VA_CRMP_DG_144.tif';'F:\ORP\GIS Data\S3\Coastal\DG\2020\500\VA_CRMP_DG_145.tif';'F:\ORP\GIS Data\S3\Coastal\DG\2020\500\VA_CRMP_DG_146.tif';'F:\ORP\GIS Data\S3\Coastal\DG\2020\500\VA_CRMP_DG_147.tif';'F:\ORP\GIS Data\S3\Coastal\DG\2020\500\VA_CRMP_DG_148.tif';'F:\ORP\GIS Data\S3\Coastal\DG\2020\500\VA_CRMP_DG_149.tif';'F:\ORP\GIS Data\S3\Coastal\DG\2020\500\VA_CRMP_DG_150.tif';'F:\ORP\GIS Data\S3\Coastal\DG\2020\500\VA_CRMP_DG_151.tif';'F:\ORP\GIS Data\S3\Coastal\DG\2020\500\VA_CRMP_DG_152.tif';'F:\ORP\GIS Data\S3\Coastal\DG\2020\500\VA_CRMP_DG_153.tif';'F:\ORP\GIS Data\S3\Coastal\DG\2020\500\VA_CRMP_DG_154.tif';'F:\ORP\GIS Data\S3\Coastal\DG\2020\500\VA_CRMP_DG_155.tif';'F:\ORP\GIS Data\S3\Coastal\DG\2020\500\VA_CRMP_DG_156.tif';'F:\ORP\GIS Data\S3\Coastal\DG\2020\500\VA_CRMP_DG_157.tif';'F:\ORP\GIS Data\S3\Coastal\DG\2020\500\VA_CRMP_DG_158.tif';'F:\ORP\GIS Data\S3\Coastal\DG\2020\500\VA_CRMP_DG_159.tif';'F:\ORP\GIS Data\S3\Coastal\DG\2020\500\VA_CRMP_DG_160.tif';'F:\ORP\GIS Data\S3\Coastal\DG\2020\500\VA_CRMP_DG_161.tif';'F:\ORP\GIS Data\S3\Coastal\DG\2020\500\VA_CRMP_DG_162.tif';'F:\ORP\GIS Data\S3\Coastal\DG\2020\500\VA_CRMP_DG_163.tif';'F:\ORP\GIS Data\S3\Coastal\DG\2020\500\VA_CRMP_DG_164.tif';'F:\ORP\GIS Data\S3\Coastal\DG\2020\500\VA_CRMP_DG_165.tif';'F:\ORP\GIS Data\S3\Coastal\DG\2020\500\VA_CRMP_DG_166.tif';'F:\ORP\GIS Data\S3\Coastal\DG\2020\500\VA_CRMP_DG_167.tif';'F:\ORP\GIS Data\S3\Coastal\DG\2020\500\VA_CRMP_DG_168.tif';'F:\ORP\GIS Data\S3\Coastal\DG\2020\500\VA_CRMP_DG_169.tif';'F:\ORP\GIS Data\S3\Coastal\DG\2020\500\VA_CRMP_DG_170.tif';'F:\ORP\GIS Data\S3\Coastal\DG\2020\500\VA_CRMP_DG_171.tif';'F:\ORP\GIS Data\S3\Coastal\DG\2020\500\VA_CRMP_DG_172.tif';'F:\ORP\GIS Data\S3\Coastal\DG\2020\500\VA_CRMP_DG_173.tif';'F:\ORP\GIS Data\S3\Coastal\DG\2020\500\VA_CRMP_DG_174.tif';'F:\ORP\GIS Data\S3\Coastal\DG\2020\500\VA_CRMP_DG_175.tif';'F:\ORP\GIS Data\S3\Coastal\DG\2020\500\VA_CRMP_DG_176.tif';'F:\ORP\GIS Data\S3\Coastal\DG\2020\500\VA_CRMP_DG_177.tif';'F:\ORP\GIS Data\S3\Coastal\DG\2020\500\VA_CRMP_DG_178.tif';'F:\ORP\GIS Data\S3\Coastal\DG\2020\500\VA_CRMP_DG_179.tif';'F:\ORP\GIS Data\S3\Coastal\DG\2020\500\VA_CRMP_DG_180.tif';'F:\ORP\GIS Data\S3\Coastal\DG\2020\500\VA_CRMP_DG_181.tif';'F:\ORP\GIS Data\S3\Coastal\DG\2020\500\VA_CRMP_DG_182.tif';'F:\ORP\GIS Data\S3\Coastal\DG\2020\500\VA_CRMP_DG_183.tif';'F:\ORP\GIS Data\S3\Coastal\DG\2020\500\VA_CRMP_DG_184.tif';'F:\ORP\GIS Data\S3\Coastal\DG\2020\500\VA_CRMP_DG_185.tif' E:\Coastal_Mosaics 2020_500_mosaic.tif PROJCS["WGS_1984_Web_Mercator_Auxiliary_Sphere",GEOGCS["GCS_WGS_1984",DATUM["D_WGS_1984",SPHEROID["WGS_1984",6378137.0,298.257223563]],PRIMEM["Greenwich",0.0],UNIT["Degree",0.0174532925199433]],PROJECTION["Mercator_Auxiliary_Sphere"],PARAMETER["False_Easting",0.0],PARAMETER["False_Northing",0.0],PARAMETER["Central_Meridian",0.0],PARAMETER["Standard_Parallel_1",0.0],PARAMETER["Auxiliary_Sphere_Type",0.0],UNIT["Meter",1.0]] "32 bit float" # 1 First First</Process>
<Process Date="20250120" Time="131752" ToolSource="c:\program files\arcgis\pro\Resources\ArcToolbox\Toolboxes\Data Management Tools.tbx\Rename">Rename D:\gis_data\coastal_depths\Coastal_DG_2020_500.tif D:\gis_data\coastal_depths\Coastal_DG_2020_500yr.tif RasterDataset</Process>
</lineage>
</DataProperties>
<SyncDate>20250116</SyncDate>
<SyncTime>00352900</SyncTime>
<ModDate>20250116</ModDate>
<ModTime>00352900</ModTime>
</Esri>
<dataIdInfo>
<envirDesc Sync="TRUE">Microsoft Windows 10 Version 10.0 (Build 22621) ; Esri ArcGIS 13.2.2.49743</envirDesc>
<dataLang>
<languageCode Sync="TRUE" value="eng"/>
<countryCode Sync="TRUE" value="USA"/>
</dataLang>
<idCitation>
<resTitle Sync="TRUE">Coastal_DG_2020_500yr</resTitle>
<presForm>
<PresFormCd Sync="TRUE" value="005"/>
</presForm>
</idCitation>
<spatRpType>
<SpatRepTypCd Sync="TRUE" value="002"/>
</spatRpType>
<dataExt>
<geoEle>
<GeoBndBox esriExtentType="search">
<exTypeCode Sync="TRUE">1</exTypeCode>
<westBL Sync="TRUE">-78.200278</westBL>
<eastBL Sync="TRUE">-75.078439</eastBL>
<northBL Sync="TRUE">39.386750</northBL>
<southBL Sync="TRUE">36.471423</southBL>
</GeoBndBox>
</geoEle>
</dataExt>
<idAbs/>
<idPurp/>
<idCredit/>
<resConst>
<Consts>
<useLimit/>
</Consts>
</resConst>
</dataIdInfo>
<mdLang>
<languageCode Sync="TRUE" value="eng"/>
<countryCode Sync="TRUE" value="USA"/>
</mdLang>
<mdChar>
<CharSetCd Sync="TRUE" value="004"/>
</mdChar>
<distInfo>
<distFormat>
<formatName Sync="TRUE">Raster Dataset</formatName>
</distFormat>
</distInfo>
<mdHrLv>
<ScopeCd Sync="TRUE" value="005"/>
</mdHrLv>
<mdHrLvName Sync="TRUE">dataset</mdHrLvName>
<refSysInfo>
<RefSystem>
<refSysID>
<identCode Sync="TRUE" code="3857"/>
<idCodeSpace Sync="TRUE">EPSG</idCodeSpace>
<idVersion Sync="TRUE">6.18.3(9.3.1.2)</idVersion>
</refSysID>
</RefSystem>
</refSysInfo>
<spatRepInfo>
<Georect>
<cellGeo>
<CellGeoCd Sync="TRUE" value="002"/>
</cellGeo>
<numDims Sync="TRUE">2</numDims>
<tranParaAv Sync="TRUE">1</tranParaAv>
<chkPtAv Sync="TRUE">0</chkPtAv>
<cornerPts>
<pos Sync="TRUE">-8705215.092224 4365683.781735</pos>
</cornerPts>
<cornerPts>
<pos Sync="TRUE">-8705215.092224 4777222.516812</pos>
</cornerPts>
<cornerPts>
<pos Sync="TRUE">-8357693.629181 4777222.516812</pos>
</cornerPts>
<cornerPts>
<pos Sync="TRUE">-8357693.629181 4365683.781735</pos>
</cornerPts>
<centerPt>
<pos Sync="TRUE">-8531454.360702 4571453.149273</pos>
</centerPt>
<axisDimension type="002">
<dimSize Sync="TRUE">114016</dimSize>
<dimResol>
<value Sync="TRUE" uom="m">3.048006</value>
</dimResol>
</axisDimension>
<axisDimension type="001">
<dimSize Sync="TRUE">135019</dimSize>
<dimResol>
<value Sync="TRUE" uom="m">3.048006</value>
</dimResol>
</axisDimension>
<ptInPixel>
<PixOrientCd Sync="TRUE" value="001"/>
</ptInPixel>
</Georect>
</spatRepInfo>
<contInfo>
<ImgDesc>
<contentTyp>
<ContentTypCd Sync="TRUE" value="001"/>
</contentTyp>
<covDim>
<Band>
<dimDescrp Sync="TRUE">Band_1</dimDescrp>
<maxVal Sync="TRUE">333.463257</maxVal>
<minVal Sync="TRUE">0.000000</minVal>
<bitsPerVal Sync="TRUE">32</bitsPerVal>
<valUnit>
<UOM type="length"/>
</valUnit>
</Band>
</covDim>
</ImgDesc>
</contInfo>
<mdDateSt Sync="TRUE">20250116</mdDateSt>
</metadata>
