{
 "currentVersion": 11.3,
 "serviceDescription": "Virginia Coastal Resilience Master Plan (VA CRMP) coastal flood depth grids. Represents the flood depth at any given location, as calculated by subtraction of the ground elevation from the water surface elevation. The water surface elevation source for this product was derived from the NOAA Vdatum tool (for tidal surfaces), or from the FEMA Region 3 storm surge study (for 50% to 0.2% AEP flood elevations). FEMA storm surge data represent the total stillwater elevation, which includes storm surge and wave setup (but not individual wave crest elevations). Data provided at a 10 ft horizontal resolution. Product names denote the time horizon (2020, 2040, 2060, 2080) and flood event (\u201cmlw\u201d = mean low water, \u201cmhw\u201d = mean high water, \u201creg\u201d = 1.5 times mean tidal range, \u201c002\u201d = 2-yr recurrence interval, \u201c005\u201d = 5-yr recurrence interval, \u201c010\u201d = 10-yr recurrence interval, \u201c025\u201d = 25-yr recurrence interval, \u201c050\u201d = 50-yr recurrence interval, \u201c100\u201d = 100-yr recurrence interval, \u201c500\u201d = 500-yr recurrence interval). See VA CRMP Appendix C description of methods for data development and processes.",
 "name": "CRMP_Coastal_DG/Coastal_DG_2080_500yr",
 "description": "",
 "extent": {
  "xmin": -8705215.0922238,
  "ymin": 4365683.781734593,
  "xmax": -8357693.629180875,
  "ymax": 4777222.516812064,
  "spatialReference": {
   "wkid": 102100,
   "latestWkid": 3857
  }
 },
 "initialExtent": {
  "xmin": -8705215.0922238,
  "ymin": 4365683.781734593,
  "xmax": -8357693.629180875,
  "ymax": 4777222.516812064,
  "spatialReference": {
   "wkid": 102100,
   "latestWkid": 3857
  }
 },
 "fullExtent": {
  "xmin": -8705215.0922238,
  "ymin": 4365683.781734593,
  "xmax": -8357693.629180875,
  "ymax": 4777222.516812064,
  "spatialReference": {
   "wkid": 102100,
   "latestWkid": 3857
  }
 },
 "sortableFields": "",
 "bandCount": 1,
 "pixelType": "F32",
 "minValues": [
  4.7683715820312E-7
 ],
 "maxValues": [
  333.46325683594
 ],
 "meanValues": [
  20.349054322819
 ],
 "stdvValues": [
  17.796852413618
 ],
 "hasMultidimensions": false,
 "pixelSizeX": 3.0480060960121915,
 "pixelSizeY": 3.048006096012195,
 "meanPixelSize": 3.0480060960121933,
 "datasetFormat": "TIFF",
 "uncompressedSize": 61577305216,
 "blockWidth": 128,
 "blockHeight": 128,
 "compressionType": "LZW",
 "bandNames": [
  "Band_1"
 ],
 "allowCopy": true,
 "allowAnalysis": true,
 "itemAccess": false,
 "inspectionCapabilities": "",
 "noDataValue": 3.3999999521443642E38,
 "noDataValues": [
  3.3999999521443642E38
 ],
 "minPixelSize": 0,
 "maxPixelSize": 0,
 "copyrightText": "",
 "serviceDataType": "esriImageServiceDataTypeGeneric",
 "serviceSourceType": "esriImageServiceSourceTypeDataset",
 "objectIdField": "",
 "fields": [],
 "capabilities": "Mensuration,Image,Metadata",
 "defaultMosaicMethod": "Center",
 "allowedMosaicMethods": "",
 "sortField": "",
 "sortValue": null,
 "sortAscending": true,
 "mosaicOperator": "First",
 "defaultCompressionQuality": 75,
 "defaultResamplingMethod": "Bilinear",
 "maxImageHeight": 4100,
 "maxImageWidth": 15000,
 "allowRasterFunction": true,
 "rasterFunctionInfos": [
  {
   "name": "None",
   "description": "",
   "help": ""
  }
 ],
 "rasterTypeInfos": [
  {
   "name": "Raster Dataset",
   "description": "Supports all ArcGIS Raster Datasets",
   "help": ""
  }
 ],
 "mensurationCapabilities": "Basic",
 "hasHistograms": true,
 "hasColormap": false,
 "hasRasterAttributeTable": false,
 "minScale": 0,
 "maxScale": 0,
 "exportTilesAllowed": false,
 "supportsStatistics": false,
 "supportsAdvancedQueries": false,
 "editFieldsInfo": null,
 "ownershipBasedAccessControlForRasters": null,
 "allowComputeTiePoints": false,
 "useStandardizedQueries": true,
 "advancedQueryCapabilities": {
  "useStandardizedQueries": true,
  "supportsStatistics": false,
  "supportsOrderBy": false,
  "supportsDistinct": false,
  "supportsPagination": false
 },
 "spatialReference": {
  "wkid": 102100,
  "latestWkid": 3857
 }
}
