View In:
ArcGIS JavaScript
ArcGIS Online Map Viewer
ArcGIS Earth
ArcGIS Pro
Service Description: Virginia Coastal Resilience Master Plan (VA CRMP) Graduated Hazard Rasters. Represents the the most-frequent (least-rare) event that floods the location per given time horizon. Product names denote the time horizon (2020, 2040, 2060, 2080). The CRMP Phase II Planning Scenarios correspond to the coastal data time horizons as follows: Baseline (2020); Near-Future Moderate (2060); Near-Future High & Far-Future Moderate (2060); Far-Future High (2080).
The data consist of various tidal and storm surge flood elevations sourced from the National Oceanic and Atmospheric Administration (NOAA) and the Federal Emergency Management Agency (FEMA), respectively. Adjustments were made to bring the data to 2020 conditions to account for relative sea level rise from the tidal datum epoch of the source data. Future conditions (2040, 2060, 2080, 2100) represented projected sea level rise based on the NOAA 2017 Intermediate High Curve using a spatially variable representation across the state.
Map Name: Coastal_2040
Legend
All Layers and Tables
Dynamic Legend
Dynamic All Layers
Layers:
Description:
Copyright Text:
Spatial Reference:
102100
(3857)
Single Fused Map Cache: true
Tile Info:
- Height: 256
- Width: 256
- DPI: 96
-
Levels of Detail: 24
-
Level ID: 1
[ Start Tile, End Tile ]
- Resolution: 78271.5169639999
- Scale: 2.95828763795777E8
-
Level ID: 2
[ Start Tile, End Tile ]
- Resolution: 39135.7584820001
- Scale: 1.47914381897889E8
-
Level ID: 3
[ Start Tile, End Tile ]
- Resolution: 19567.8792409999
- Scale: 7.3957190948944E7
-
Level ID: 4
[ Start Tile, End Tile ]
- Resolution: 9783.93962049996
- Scale: 3.6978595474472E7
-
Level ID: 5
[ Start Tile, End Tile ]
- Resolution: 4891.96981024998
- Scale: 1.8489297737236E7
- Format: Mixed
- Compression Quality: 75.0
- Origin: X: -2.0037508342787E7
Y: 2.0037508342787E7
- Spatial Reference: 102100
(3857)
Storage Info:
- Storage Format: esriMapCacheStorageModeCompactV2
- Packet Size: 128
Initial Extent:
XMin: -8541396.875920054
YMin: 4500858.1806521565
XMax: -8519923.29113137
YMax: 4515430.991501188
Spatial Reference: 102100
(3857)
Full Extent:
XMin: -8705215.0922238
YMin: 4365683.781734593
XMax: -8357693.629180875
YMax: 4777222.516812064
Spatial Reference: 102100
(3857)
Units: esriMeters
Supported Image Format Types: PNG32,PNG24,PNG,JPG,DIB,TIFF,EMF,PS,PDF,GIF,SVG,SVGZ,BMP
Document Info:
Title: D:\gis_data\coastal_grad\aprx\coastal_grad\coastal_grad.aprx
Author:
Comments:
Subject:
Category:
Keywords:
AntialiasingMode: Fast
TextAntialiasingMode: Force
Supports Dynamic Layers: true
Resampling: true
MaxRecordCount: 2000
MaxImageHeight: 4096
MaxImageWidth: 4096
Supported Query Formats: JSON, geoJSON, PBF
Supports Query Data Elements: true
Min Scale: 4622324.434309
Max Scale: 24000.819285999998
Supports Datum Transformation: true
Child Resources:
Info
Dynamic Layer
Supported Operations:
Export Map
Identify
QueryLegends
QueryDomains
Find
Return Updates