View In:
ArcGIS JavaScript
ArcGIS Online Map Viewer
ArcGIS Earth
Service Description: Rainfall-driven flooding includes changing precipitation projections based on NOAA-MARISA predictive intensity, duration, and frequency curves. For each scenario, cross-referencing related the rainfall intervals to 2-, 5-, 10-, 25-, 50-, 100-, and 500-year recurrence intervals. The most-frequent (least-rare) event that floods the location per given time horizon is mapped.
Name: CRMP2_FloodHazard/Rainfall_NearFutureHigh
Description: Rainfall-driven flooding includes changing precipitation projections based on NOAA-MARISA predictive intensity, duration, and frequency curves. For each scenario, cross-referencing related the rainfall intervals to 2-, 5-, 10-, 25-, 50-, 100-, and 500-year recurrence intervals. The most-frequent (least-rare) event that floods the location per given time horizon is mapped.
Single Fused Map Cache: false
Extent:
XMin: -8705215.372103015
YMin: 4365684.910671218
XMax: -8357693.909060089
YMax: 4777223.645748689
Spatial Reference: 102100
(3857)
Initial Extent:
XMin: -8705215.372103015
YMin: 4365684.910671218
XMax: -8357693.909060089
YMax: 4777223.645748689
Spatial Reference: 102100
(3857)
Full Extent:
XMin: -8705215.372103015
YMin: 4365684.910671218
XMax: -8357693.909060089
YMax: 4777223.645748689
Spatial Reference: 102100
(3857)
Pixel Size X: 3.0480060960121915
Pixel Size Y: 3.048006096012195
Band Count: 1
Pixel Type: U8
RasterFunction Infos: {"rasterFunctionInfos": [{
"name": "None",
"description": "",
"help": ""
}]}
Mensuration Capabilities: Basic
Inspection Capabilities:
Has Histograms: true
Has Colormap: true
Has Multi Dimensions : false
Rendering Rule:
Min Scale: 0
Max Scale: 0
Copyright Text:
Service Data Type: esriImageServiceDataTypeThematic
Min Values: 40
Max Values: 100
Mean Values: 59.402847264341
Standard Deviation Values: 23.048314149971
Object ID Field:
Fields:
None
Default Mosaic Method: Center
Allowed Mosaic Methods:
SortField:
SortValue: null
Mosaic Operator: First
Default Compression Quality: 75
Default Resampling Method: Nearest
Max Record Count: null
Max Image Height: 4100
Max Image Width: 15000
Max Download Image Count: null
Max Mosaic Image Count: null
Allow Raster Function: true
Allow Copy: true
Allow Analysis: true
Allow Compute TiePoints: false
Supports Statistics: false
Supports Advanced Queries: false
Use StandardizedQueries: true
Raster Type Infos:
Name: Raster Dataset
Description: Supports all ArcGIS Raster Datasets
Help:
Has Raster Attribute Table: true
Edit Fields Info: null
Ownership Based AccessControl For Rasters: null
Child Resources:
Info
Raster Attribute Table
Histograms
Statistics
Key Properties
Color Map
Legend
Raster Function Infos
Supported Operations:
Export Image
Identify
Measure
Compute Histograms
Compute Statistics Histograms
Get Samples
Compute Class Statistics
Query Boundary
Compute Pixel Location
Compute Angles
Validate
Project