View In:
ArcGIS JavaScript
ArcGIS Online Map Viewer
ArcGIS Earth
Service Description: Virginia Coastal Resilience Master Plan Phase II pluvial (rainfall-driven) flood depth grids. Represents the flood depth at any given location, as calculated by subtraction of the ground elevation from the water surface elevation. The CRMP Phase II pluvial production effort sub-divided coastal Virginia’s HUC-12 watersheds into 1,830 smaller sub-catchments. Each sub-catchment represented an area ranging between 3 and 10 square miles to make the models more manageable and support uniform precipitation. The models were created using the USACE HEC-RAS version 6.1 software.
Precipitation were projections based on NOAA-MARISA predictive intensity, duration, and frequency curves.
Complete documentation of data sources and treatment for model application is provided in the Pluvial Modeling Technical Memorandum here:
https://vadcr-frp.s3.amazonaws.com/Pluvial_CRMP/VACRMP_PluvialModelingReport_Final_20240614.pdf
There is a total of 5 planning scenarios available: Baseline data is based on historical and observed data. This data is not recommended for long-term planning purposes but serves as a point of comparison for future conditions. Near Future scenarios are suitable for planning through the next 35 years and are based on climate data most relevant to the period between 2030 and 2060. Far Future scenarios are suitable for planning through the next 75 years and are based on climate data most relevant to the period between 2060 and 2100.
Moderate projections indicate a likely future. They represent a “best estimate” for future conditions, suitable for decisions where more risk is acceptable.
High projections indicate a less likely but possible future with higher sea level rise and precipitation estimates. These projections may be favored for use in decisions with little tolerance for risk.
Name: CRMP2_Rainfall_DG/Rainfall_DG_FarFutureMod_500yr
Description:
Single Fused Map Cache: false
Extent:
XMin: -8705215.092097938
YMin: 4365683.781602433
XMax: -8357693.629055012
YMax: 4777222.5166799035
Spatial Reference: 102100
(3857)
Initial Extent:
XMin: -8705215.092097938
YMin: 4365683.781602433
XMax: -8357693.629055012
YMax: 4777222.5166799035
Spatial Reference: 102100
(3857)
Full Extent:
XMin: -8705215.092097938
YMin: 4365683.781602433
XMax: -8357693.629055012
YMax: 4777222.5166799035
Spatial Reference: 102100
(3857)
Pixel Size X: 3.0480060960121915
Pixel Size Y: 3.048006096012195
Band Count: 1
Pixel Type: F32
RasterFunction Infos: {"rasterFunctionInfos": [{
"name": "None",
"description": "",
"help": ""
}]}
Mensuration Capabilities: Basic
Inspection Capabilities:
Has Histograms: true
Has Colormap: false
Has Multi Dimensions : false
Rendering Rule:
Min Scale: 0
Max Scale: 0
Copyright Text:
Service Data Type: esriImageServiceDataTypeGeneric
Min Values: 0.5
Max Values: 99.829925537109
Mean Values: 2.9125517082704
Standard Deviation Values: 4.4454655820414
Object ID Field:
Fields:
None
Default Mosaic Method: Center
Allowed Mosaic Methods:
SortField:
SortValue: null
Mosaic Operator: First
Default Compression Quality: 75
Default Resampling Method: Bilinear
Max Record Count: null
Max Image Height: 4100
Max Image Width: 15000
Max Download Image Count: null
Max Mosaic Image Count: null
Allow Raster Function: true
Allow Copy: true
Allow Analysis: true
Allow Compute TiePoints: false
Supports Statistics: false
Supports Advanced Queries: false
Use StandardizedQueries: true
Raster Type Infos:
Name: Raster Dataset
Description: Supports all ArcGIS Raster Datasets
Help:
Has Raster Attribute Table: false
Edit Fields Info: null
Ownership Based AccessControl For Rasters: null
Child Resources:
Info
Histograms
Statistics
Key Properties
Legend
Raster Function Infos
Supported Operations:
Export Image
Identify
Measure
Compute Histograms
Compute Statistics Histograms
Get Samples
Compute Class Statistics
Query Boundary
Compute Pixel Location
Compute Angles
Validate
Project