View In:
ArcGIS JavaScript
ArcGIS Online Map Viewer
ArcGIS Earth
Service Description: CRMP_Coastal_DG/Coastal_DG_2020_500yr
Name: CRMP_Coastal_DG/Coastal_DG_2020_500yr
Description:
Single Fused Map Cache: false
Extent:
XMin: -8705215.0922238
YMin: 4365683.781734593
XMax: -8357693.629180875
YMax: 4777222.516812064
Spatial Reference: 102100
(3857)
Initial Extent:
XMin: -8705215.0922238
YMin: 4365683.781734593
XMax: -8357693.629180875
YMax: 4777222.516812064
Spatial Reference: 102100
(3857)
Full Extent:
XMin: -8705215.0922238
YMin: 4365683.781734593
XMax: -8357693.629180875
YMax: 4777222.516812064
Spatial Reference: 102100
(3857)
Pixel Size X: 3.0480060960121915
Pixel Size Y: 3.048006096012195
Band Count: 1
Pixel Type: F32
RasterFunction Infos: {"rasterFunctionInfos": [{
"name": "None",
"description": "",
"help": ""
}]}
Mensuration Capabilities: Basic
Inspection Capabilities:
Has Histograms: true
Has Colormap: false
Has Multi Dimensions : false
Rendering Rule:
Min Scale: 0
Max Scale: 0
Copyright Text:
Service Data Type: esriImageServiceDataTypeGeneric
Min Values: 4.7683715820312E-7
Max Values: 333.46325683594
Mean Values: 22.549605198697
Standard Deviation Values: 17.519441266377
Object ID Field:
Fields:
None
Default Mosaic Method: Center
Allowed Mosaic Methods:
SortField:
SortValue: null
Mosaic Operator: First
Default Compression Quality: 75
Default Resampling Method: Bilinear
Max Record Count: null
Max Image Height: 4100
Max Image Width: 15000
Max Download Image Count: null
Max Mosaic Image Count: null
Allow Raster Function: true
Allow Copy: true
Allow Analysis: true
Allow Compute TiePoints: false
Supports Statistics: false
Supports Advanced Queries: false
Use StandardizedQueries: true
Raster Type Infos:
Name: Raster Dataset
Description: Supports all ArcGIS Raster Datasets
Help:
Has Raster Attribute Table: false
Edit Fields Info: null
Ownership Based AccessControl For Rasters: null
Child Resources:
Info
Histograms
Statistics
Key Properties
Legend
Raster Function Infos
Supported Operations:
Export Image
Identify
Measure
Compute Histograms
Compute Statistics Histograms
Get Samples
Compute Class Statistics
Query Boundary
Compute Pixel Location
Compute Angles
Validate
Project