View In:
ArcGIS JavaScript
ArcGIS Online Map Viewer
ArcGIS Earth
Service Description: Virginia Coastal Resilience Master Plan (VA CRMP) coastal flood depth grids. Represents the flood depth at any given location, as calculated by subtraction of the ground elevation from the water surface elevation. The water surface elevation source for this product was derived from the NOAA Vdatum tool (for tidal surfaces), or from the FEMA Region 3 storm surge study (for 50% to 0.2% AEP flood elevations). FEMA storm surge data represent the total stillwater elevation, which includes storm surge and wave setup (but not individual wave crest elevations). Data provided at a 10 ft horizontal resolution. Product names denote the time horizon (2020, 2040, 2060, 2080) and flood event (“mlw” = mean low water, “mhw” = mean high water, “reg” = 1.5 times mean tidal range, “002” = 2-yr recurrence interval, “005” = 5-yr recurrence interval, “010” = 10-yr recurrence interval, “025” = 25-yr recurrence interval, “050” = 50-yr recurrence interval, “100” = 100-yr recurrence interval, “500” = 500-yr recurrence interval). See VA CRMP Appendix C description of methods for data development and processes.
Name: CRMP_Coastal_DG/Coastal_DG_2040_100yr
Description:
Single Fused Map Cache: false
Extent:
XMin: -8705215.0922238
YMin: 4365683.781734593
XMax: -8357693.629180875
YMax: 4777222.516812064
Spatial Reference: 102100
(3857)
Initial Extent:
XMin: -8705215.0922238
YMin: 4365683.781734593
XMax: -8357693.629180875
YMax: 4777222.516812064
Spatial Reference: 102100
(3857)
Full Extent:
XMin: -8705215.0922238
YMin: 4365683.781734593
XMax: -8357693.629180875
YMax: 4777222.516812064
Spatial Reference: 102100
(3857)
Pixel Size X: 3.0480060960121915
Pixel Size Y: 3.048006096012195
Band Count: 1
Pixel Type: F32
RasterFunction Infos: {"rasterFunctionInfos": [{
"name": "None",
"description": "",
"help": ""
}]}
Mensuration Capabilities: Basic
Inspection Capabilities:
Has Histograms: true
Has Colormap: false
Has Multi Dimensions : false
Rendering Rule:
Min Scale: 0
Max Scale: 0
Copyright Text:
Service Data Type: esriImageServiceDataTypeGeneric
Min Values: 2.3841857910156E-7
Max Values: 329.39910888672
Mean Values: 18.347819569914
Standard Deviation Values: 17.814371139763
Object ID Field:
Fields:
None
Default Mosaic Method: Center
Allowed Mosaic Methods:
SortField:
SortValue: null
Mosaic Operator: First
Default Compression Quality: 75
Default Resampling Method: Bilinear
Max Record Count: null
Max Image Height: 4100
Max Image Width: 15000
Max Download Image Count: null
Max Mosaic Image Count: null
Allow Raster Function: true
Allow Copy: true
Allow Analysis: true
Allow Compute TiePoints: false
Supports Statistics: false
Supports Advanced Queries: false
Use StandardizedQueries: true
Raster Type Infos:
Name: Raster Dataset
Description: Supports all ArcGIS Raster Datasets
Help:
Has Raster Attribute Table: false
Edit Fields Info: null
Ownership Based AccessControl For Rasters: null
Child Resources:
Info
Histograms
Statistics
Key Properties
Legend
Raster Function Infos
Supported Operations:
Export Image
Identify
Measure
Compute Histograms
Compute Statistics Histograms
Get Samples
Compute Class Statistics
Query Boundary
Compute Pixel Location
Compute Angles
Validate
Project